Workbook

Sheet Listes
A1: Type contrôle | B1: Nature contrôle | C1: Régime d'inscription | D1: Nature ELP | E1: Mutualisation | F1: Statut | G1: Type | J1: Mention | K1: Codage Diplôme | L1: Codage double licence
A2: CCI (CC Intégral) | B2: Écrit | C2: Initiale Hors-Apprentissage / Formation Continue / Formation Permanente | D2: UE | E2: Porteuse | F2: Création | G2: Facultatif | H2: Type Diplôme | J2: Sciences de la Vie | K2: SLVIE18
A3: CT (Contrôle terminal) | B3: Oral | C3: Contrat d'Apprentissage/ Contrat de Professionnalisation | D3: ECUE | E3: Portée | F3: Modification | G3: Complémentaire | H3: Licence | J3: Droit | K3: DLDRT18
A4: CC&CT | B4: Écrit/Pratique | D4: BLOC | F4: Fermeture | H4: Double Licence | J4: Économie et gestion | K4: ILECG18
B5: Rapport/Mémoire | D5: OPTION | J5: Économie et gestion | K5: GLECG18
B6: Pratique sportive | D6: Parcours Pédagogique | J6: Information-communication | K6: HLICO18
J7: Arts du spectacle | K7: HLARS18
J8: Musicologie | K8: HLMUS18
J9: Lettres | K9: HLLET18
A10: Portail_Droit | B10: Portail_EG | C10: Portail_SHS | D10: Portail_LLAC | E10: Portail_ST | F10: Portail_SV | G10: Portail_STAPS | J10: Lettres étrangères appliquées (LEA) | K10: HLEAP18
A11: Droit | B11: Économie et gestion | C11: Sciences de l'homme, anthropologie, ethnologie | D11: Information-communication | E11: Sciences de la terre | F11: Sciences de la vie | G11: STAPS-Activité Physique Adaptée-Santé | J11: Langues, littératures et civilisations étrangères et régionales (LLCER) | K11: HLCER18
A12: Droit-Philosophie | B12: Économie-Sociologie | C12: Psychologie | D12: Arts du spectacle | E12: Sciences et technologies | F12: Sciences de la vie-Chimie | G12: STAPS-Education et Motricité | J12: Sciences de l'homme, anthropologie, ethnologie | K12: HLTSH18
C13: Histoire | D13: Musicologie | E13: Physique | F13: Sciences de la vie-Mathématiques | G13: STAPS-Entraînement Sportif | J13: Psychologie | K13: HLPSY18
C14: Sociologie | D14: Lettres | E14: Mathématiques | F14: Bio-Geo-Sciences | G14: STAPS-Management du Sport | J14: Sciences du langage | K14: HLNDL18
C15: Philosophie | D15: Lettres étrangères appliquées (LEA) | E15: Chimie | J15: Histoire | K15: HLHIS18
C16: Humanités | D16: Langues, littératures et civilisations étrangères et régionales (LLCER) | E16: Mathématiques et Informatique appliquées aux sciences humaines et sociales (MIASHS) | J16: Philosophie | K16: HLOPH18
C17: Géographie et aménagement | D17: Sciences du langage | E17: Electronique, énergie électrique, automatique (EEA) | J17: Sociologie | K17: HLSOC18
C18: Philosophie-Droit | D18: Lettres-Histoire | E18: Informatique | J18: Sciences de la terre | K18: SLTER18
C19: Psychologie-Philosophie | D19: Musicologie - Sciences de l'homme, anthropologie, ethnologie | E19: Sciences de la terre-Sciences de la vie | J19: Sciences et technologies | K19: SLSIT18
C20: Philosophie-Psychologie | E20: Physique-Mathématiques | J20: Chimie | K20: SLCHI18
C21: Histoire-Lettres | E21: Mathématiques-Physique | J21: Physique | K21: SLPHY18
C22: Sociologie-Économie | E22: Informatique-Mathématiques | J22: Mathématiques | K22: SLMAT18
E23: Mathématiques-Informatique | J23: Mathématiques et Informatique appliquées aux sciences humaines et sociales (MIASHS) | K23: SLASH18
E24: Chimie-Sciences de la vie | J24: Electronique, énergie électrique, automatique (EEA) | K24: SLELE18
E25: Sciences de la terre-Physique | J25: Informatique | K25: SLINF18
A26: CNU | E26: Physique-Sciences de la terre | J26: Géographie et aménagement | K26: SLGEO18
A27: 01-Droit privé et sciences criminelles | E27: Mathématiques-Sciences de la vie | J27: STAPS-Activité Physique Adaptée-Santé | K27: PLAPA18
A28: 02-Droit public | J28: STAPS-Education et Motricité | K28: PLEMO18
A29: 03-Histoire du droit et des institutions | J29: STAPS-Entraînement Sportif | K29: PLSES18
A30: 04-Science politique | J30: STAPS-Management du Sport | K30: PLMSP18
A31: 05-Sciences économiques | J31: Humanités | K31: HLBHU18
A32: 06-Sciences de gestion | J32: Sciences de la vie-Chimie | K32: SLVIE18 | L32: SLCHI18
A33: 07-Sciences du langage : linguistique et phonétique générales | F33: l | J33: Sciences de la vie-Mathématiques | K33: SLVIE18 | L33: SLMAT18
A34: 08-Langues et littératures anciennes | J34: Bio-Geo-Sciences | K34: SLVIE18 | L34: SLTER18
A35: 09-Langue et littérature françaises | J35: Sciences de la terre-Sciences de la vie | K35: SLTER18 | L35: SLVIE18
A36: 10-Littératures comparées | J36: Physique-Mathématiques | K36: SLPHY18 | L36: SLPHY18
A37: 11-Langues et littératures anglaises et anglo-saxonnes | J37: Mathématiques-Physique | K37: SLMAT18 | L37: SLMAT18
A38: 12-Langues et littératures germaniques et scandinaves | J38: Informatique-Mathématiques | K38: SLINF18 | L38: SLMAT18
A39: 13-Langues et littératures slaves | J39: Mathématiques-Informatique | K39: SLMAT18 | L39: SLINF18
A40: 14-Langues et littératures romanes : espagnol, italien, portugais, autres langues romanes | J40: Chimie-Sciences de la vie | K40: SLCHI18 | L40: SLVIE18
...

Sheet Calcul
A1: Heure Pédagogique | O1: Heure CM
A3: Semestre 5 | D3: Semestre 6 | O3: Semestre 5 | P3: Semestre 6
A4: Heure CM | B4: Heure TD | C4: Heure TP | D4: Heure CM | E4: Heure TD | F4: Heure TP | O4: ='S5 Maquette'!I19*1.5 -> 0 | P4: ='S6 Maquette'!I19*1.5 -> 0
A5: =SUM(O4:O291) -> 276 | B5: =SUM('S5 Maquette'!J19:J299) -> 102 | C5: =SUM('S5 Maquette'!K19:K299) -> 162 | D5: =SUM(P4:P291) -> 315 | E5: =SUM('S6 Maquette'!J19:J302) -> 100 | F5: =SUM('S6 Maquette'!K19:K302) -> 157 | O5: ='S5 Maquette'!I20*1.5 -> 0 | P5: ='S6 Maquette'!I20*1.5 -> 0
A6: Total | D6: Total | O6: ='S5 Maquette'!I21*1.5 -> 0 | P6: ='S6 Maquette'!I21*1.5 -> 0
A7: =SUM(A5,B5,C5) -> 540 | D7: =SUM(D5,E5,F5) -> 572 | O7: ='S5 Maquette'!I22*1.5 -> 0 | P7: ='S6 Maquette'!I22*1.5 -> 0
A8: Total | O8: ='S5 Maquette'!I23*1.5 -> 33 | P8: ='S6 Maquette'!I23*1.5 -> 15
O9: ='S5 Maquette'!I24*1.5 -> 48 | P9: ='S6 Maquette'!I24*1.5 -> 45
A10: =SUM(A7,D7) -> 1112 | O10: ='S5 Maquette'!I25*1.5 -> 45 | P10: ='S6 Maquette'!I25*1.5 -> 30
O11: ='S5 Maquette'!I26*1.5 -> 15 | P11: ='S6 Maquette'!I26*1.5 -> 0
P12: ='S6 Maquette'!I27*1.5 -> 30
O13: ='S5 Maquette'!I27*1.5 -> 0 | P13: ='S6 Maquette'!I30*1.5 -> 39
A14: Heure Porté par la maquette | H14: Mutualisation Porteuse | O14: ='S5 Maquette'!I28*1.5 -> 24 | P14: ='S6 Maquette'!I31*1.5 -> 36
O15: ='S5 Maquette'!I29*1.5 -> 18 | P15: ='S6 Maquette'!I32*1.5 -> 0
A16: Semestre 5 | D16: Semestre 6 | H16: Semestre 5 | K16: Semestre 6 | O16: ='S5 Maquette'!I30*1.5 -> 0 | P16: ='S6 Maquette'!I33*1.5 -> 45
A17: Heure CM | B17: Heure TD | C17: Heure TP | D17: Heure CM | E17: Heure TD | F17: Heure TP | H17: Heure CM | I17: Heure TD | J17: Heure TP | K17: Heure CM | L17: Heure TD | M17: Heure TP | O17: ='S5 Maquette'!I31*1.5 -> 0 | P17: ='S6 Maquette'!I34*1.5 -> 6
A18: =A5-H18 -> 0 | B18: =B5-I18 -> 0 | C18: =C5-J18 -> 0 | D18: =D5-K18 -> 0 | E18: =E5-L18 -> 0 | F18: =F5-M18 | H18: =SUMIF('S5 Maquette'!M19:M299,"Portée",'S5 Maquette'!I19:I299)*1.5 -> 276 | I18: =SUMIF('S5 Maquette'!M19:M299,"Portée",'S5 Maquette'!J19:J299) -> 102 | J18: =SUMIF('S5 Maquette'!M19:M299,"Portée",'S5 Maquette'!K19:K299) -> 162 | K18: =SUMIF('S6 Maquette'!M19:M302,"Portée",'S6 Maquette'!I19:I302)*1.5 -> 315 | L18: =SUMIF('S6 Maquette'!M19:M302,"Portée",'S6 Maquette'!J19:J302) -> 100 | M18: =SUMIF('S6 Maquette'!M9:M302,"Portée",'S6 Maquette'!K19:K302) | O18: ='S5 Maquette'!I32*1.5 -> 21 | P18: ='S6 Maquette'!I35*1.5 -> 0
A19: Total | D19: Total | O19: ='S5 Maquette'!I33*1.5 -> 18 | P19: ='S6 Maquette'!I36*1.5 -> 45
A20: =SUM(A18,B18,C18) -> 0 | D20: =SUM(D18,E18,F18) | O20: ='S5 Maquette'!I34*1.5 -> 0 | P20: ='S6 Maquette'!I37*1.5 -> 24
A21: Total | O21: ='S5 Maquette'!I35*1.5 -> 0 | P21: ='S6 Maquette'!I38*1.5 -> 0
A22: =SUM(A20,D20) | O22: ='S5 Maquette'!I36*1.5 -> 30 | P22: ='S6 Maquette'!I39*1.5 -> 0
O23: ='S5 Maquette'!I37*1.5 -> 24 | P23: ='S6 Maquette'!I40*1.5 -> 0
O24: ='S5 Maquette'!I38*1.5 -> 0 | P24: ='S6 Maquette'!I41*1.5 -> 0
O25: ='S5 Maquette'!I39*1.5 -> 0 | P25: ='S6 Maquette'!I42*1.5 -> 0
O26: ='S5 Maquette'!I40*1.5 -> 0 | P26: ='S6 Maquette'!I43*1.5 -> 0
O27: ='S5 Maquette'!I41*1.5 -> 0 | P27: ='S6 Maquette'!I44*1.5 -> 0
O28: ='S5 Maquette'!I42*1.5 -> 0 | P28: ='S6 Maquette'!I45*1.5 -> 0
O29: ='S5 Maquette'!I43*1.5 -> 0 | P29: ='S6 Maquette'!I46*1.5 -> 0
O30: ='S5 Maquette'!I44*1.5 -> 0 | P30: ='S6 Maquette'!I47*1.5 -> 0
O31: ='S5 Maquette'!I45*1.5 -> 0 | P31: ='S6 Maquette'!I48*1.5 -> 0
O32: ='S5 Maquette'!I46*1.5 -> 0 | P32: ='S6 Maquette'!I49*1.5 -> 0
O33: ='S5 Maquette'!I47*1.5 -> 0 | P33: ='S6 Maquette'!I50*1.5 -> 0
O34: ='S5 Maquette'!I48*1.5 -> 0 | P34: ='S6 Maquette'!I51*1.5 -> 0
... O291: ='S5 Maquette'!I305*1.5 -> 0 | P291: ='S6 Maquette'!I308*1.5 -> 0

Sheet Fiche Générale
A1: Type Diplôme : Licence & Double Licence 3ème année
A2: Type diplôme | B2: Double Licence
A3: COMPOSANTE | B3: Portail_ST
A4: MENTION | B4: Sciences de la terre-Sciences de la vie
A5: CODE DIPLÔME
A6: Régime d'inscription | B6: Initiale Hors-Apprentissage / Formation Continue / Formation Permanente
A8: Parcours Type en L3
A9: Parcours Type
A11: Heures Maquette | C11: Heures Valorisées
A13: ='Calcul'!A10 -> 1112 | C13: ='Calcul'!A22
A18: COMPENSATION
A19: Les MCC déterminent le mode de calcul des UE, du semestre et de l'année, les passages en année supérieure, l'obtenion du ou des diplôme(s). Elles indiquent les notes éliminatoires et les règles de compensation.
A20: Obtention des UE
A23: Obtention du Semestre
A24: * compensation des UE pour le calcul du semestre : la moyenne des UE de ST+SV doit être supérieure ou egale à 10/20 sans tenir compte des UET (compétences transversales) et en respectant les notes éliminatoires indiquées ci-après.
A25: * les UET doivent être validées indépendemment des autres UEs à 10/20 ou plus.
A26: * en session 2 pour les UE de ST, le calcul du semestre se fera avec la meilleure note entre session 1 et session 2
A27: * en session 2 pour les UE de SV = session 2 + notes CCi éventuellement incluses (au choix du responsable de l'ECUE et/ou UE) si en faveur de la réussite.
A28: * Refus de compensation : l'étudiant.e dispose de 5 jours après la publication des résultats pour refuser la compensation. Dans ce cas, toutes les ECUE non validées au sein d'une UE non validée devront être représentées en session 2
A29: Obtention de l'Année
A30: En L3 : en session 1 et en session 2, pas de compensation entre semestres sauf décision du jury (=avoir 10 de moyenne à chaque semestre (hors UET).
A32: Obtention du diplôme
... A50: * passage de DL2-BGS vers L3-ST : si chaque semestre est supérieur ou égal à 10/20 + cinq UE de ST validées séparément à 10/20 ou plus sans qu'aucune des 5UE de ST ne soient inférieures à 8/10 sauf autre décision du jury.
A52: * passage de DL-BGS vers LSV | B52: * passage de DL-BGS vers LSV | C52: * passage de DL-BGS vers LSV | D52: * passage de DL-BGS vers LSV | E52: * passage de DL-BGS vers LSV | F52: * passage de DL-BGS vers LSV | G52: * passage de DL-BGS vers LSV | H52: * passage de DL-BGS vers LSV | I52: * passage de DL-BGS vers LSV | J52: * passage de DL-BGS vers LSV | K52: * passage de DL-BGS vers LSV | L52: * passage de DL-BGS vers LSV | M52: * passage de DL-BGS vers LSV | N52: * passage de DL-BGS vers LSV | O52: * passage de DL-BGS vers LSV | P52: * passage de DL-BGS vers LSV | Q52: * passage de DL-BGS vers LSV | R52: * passage de DL-BGS vers LSV | S52: * passage de DL-BGS vers LSV | T52: * passage de DL-BGS vers LSV | U52: * passage de DL-BGS vers LSV | V52: * passage de DL-BGS vers LSV | W52: * passage de DL-BGS vers LSV | X52: * passage de DL-BGS vers LSV | Y52: * passage de DL-BGS vers LSV | Z52: * passage de DL-BGS vers LSV | AA52: * passage de DL-BGS vers LSV | AB52: * passage de DL-BGS vers LSV | AC52: * passage de DL-BGS vers LSV | AD52: * passage de DL-BGS vers LSV | AE52: * passage de DL-BGS vers LSV | AF52: * passage de DL-BGS vers LSV | AG52: * passage de DL-BGS vers LSV | AH52: * passage de DL-BGS vers LSV | AI52: * passage de DL-BGS vers LSV | AJ52: * passage de DL-BGS vers LSV | AK52: * passage de DL-BGS vers LSV | AL52: * passage de DL-BGS vers LSV | AM52: * passage de DL-BGS vers LSV | AN52: * passage de DL-BGS vers LSV | AO52: * passage de DL-BGS vers LSV | AP52: * passage de DL-BGS vers LSV | AQ52: * passage de DL-BGS vers LSV | AR52: * passage de DL-BGS vers LSV | AS52: * passage de DL-BGS vers LSV | AT52: * passage de DL-BGS vers LSV | AU52: * passage de DL-BGS vers LSV | AV52: * passage de DL-BGS vers LSV | AW52: * passage de DL-BGS vers LSV | AX52: * passage de DL-BGS vers LSV | AY52: * passage de DL-BGS vers LSV | AZ52: * passage de DL-BGS vers LSV | BA52: * passage de DL-BGS vers LSV | BB52: * passage de DL-BGS vers LSV | BC52: * passage de DL-BGS vers LSV | BD52: * passage de DL-BGS vers LSV | BE52: * passage de DL-BGS vers LSV | BF52: * passage de DL-BGS vers LSV | BG52: * passage de DL-BGS vers LSV | BH52: * passage de DL-BGS vers LSV | BI52: * passage de DL-BGS vers LSV | BJ52: * passage de DL-BGS vers LSV | BK52: * passage de DL-BGS vers LSV | BL52: * passage de DL-BGS vers LSV | BM52: * passage de DL-BGS vers LSV | BN52: * passage de DL-BGS vers LSV | BO52: * passage de DL-BGS vers LSV | BP52: * passage de DL-BGS vers LSV | BQ52: * passage de DL-BGS vers LSV | BR52: * passage de DL-BGS vers LSV | BS52: * passage de DL-BGS vers LSV | BT52: * passage de DL-BGS vers LSV | BU52: * passage de DL-BGS vers LSV | BV52: * passage de DL-BGS vers LSV | BW52: * passage de DL-BGS vers LSV | BX52: * passage de DL-BGS vers LSV | BY52: * passage de DL-BGS vers LSV | BZ52: * passage de DL-BGS vers LSV | CA52: * passage de DL-BGS vers LSV | CB52: * passage de DL-BGS vers LSV | CC52: * passage de DL-BGS vers LSV | CD52: * passage de DL-BGS vers LSV | CE52: * passage de DL-BGS vers LSV | CF52: * passage de DL-BGS vers LSV | CG52: * passage de DL-BGS vers LSV | CH52: * passage de DL-BGS vers LSV | CI52: * passage de DL-BGS vers LSV | CJ52: * passage de DL-BGS vers LSV | CK52: * passage de DL-BGS vers LSV | CL52: * passage de DL-BGS vers LSV | CM52: * passage de DL-BGS vers LSV | CN52: * passage de DL-BGS vers LSV | CO52: * passage de DL-BGS vers LSV | CP52: * passage de DL-BGS vers LSV | CQ52: * passage de DL-BGS vers LSV | CR52: * passage de DL-BGS vers LSV | CS52: * passage de DL-BGS vers LSV | CT52: * passage de DL-BGS vers LSV | CU52: * passage de DL-BGS vers LSV | CV52: * passage de DL-BGS vers LSV | CW52: * passage de DL-BGS vers LSV | CX52: * passage de DL-BGS vers LSV | CY52: * passage de DL-BGS vers LSV | CZ52: * passage de DL-BGS vers LSV | DA52: * passage de DL-BGS vers LSV | DB52: * passage de DL-BGS vers LSV | DC52: * passage de DL-BGS vers LSV | DD52: * passage de DL-BGS vers LSV | DE52: * passage de DL-BGS vers LSV | DF52: * passage de DL-BGS vers LSV | DG52: * passage de DL-BGS vers LSV | DH52: * passage de DL-BGS vers LSV | DI52: * passage de DL-BGS vers LSV | DJ52: * passage de DL-BGS vers LSV | DK52: * passage de DL-BGS vers LSV | DL52: * passage de DL-BGS vers LSV | DM52: * passage de DL-BGS vers LSV | DN52: * passage de DL-BGS vers LSV | DO52: * passage de DL-BGS vers LSV | DP52: * passage de DL-BGS vers LSV | DQ52: * passage de DL-BGS vers LSV | DR52: * passage de DL-BGS vers LSV | DS52: * passage de DL-BGS vers LSV | DT52: * passage de DL-BGS vers LSV | DU52: * passage de DL-BGS vers LSV | DV52: * passage de DL-BGS vers LSV | DW52: * passage de DL-BGS vers LSV | DX52: * passage de DL-BGS vers LSV | DY52: * passage de DL-BGS vers LSV | DZ52: * passage de DL-BGS vers LSV | EA52: * passage de DL-BGS vers LSV | EB52: * passage de DL-BGS vers LSV | EC52: * passage de DL-BGS vers LSV | ED52: * passage de DL-BGS vers LSV | EE52: * passage de DL-BGS vers LSV | EF52: * passage de DL-BGS vers LSV | EG52: * passage de DL-BGS vers LSV | EH52: * passage de DL-BGS vers LSV | EI52: * passage de DL-BGS vers LSV | EJ52: * passage de DL-BGS vers LSV | EK52: * passage de DL-BGS vers LSV | EL52: * passage de DL-BGS vers LSV | EM52: * passage de DL-BGS vers LSV | EN52: * passage de DL-BGS vers LSV | EO52: * passage de DL-BGS vers LSV | EP52: * passage de DL-BGS vers LSV | EQ52: * passage de DL-BGS vers LSV | ER52: * passage de DL-BGS vers LSV | ES52: * passage de DL-BGS vers LSV | ET52: * passage de DL-BGS vers LSV | EU52: * passage de DL-BGS vers LSV | EV52: * passage de DL-BGS vers LSV | EW52: * passage de DL-BGS vers LSV | EX52: * passage de DL-BGS vers LSV
A53: Un(e) étudiant(e) inscrit(e) en double licence Bio-Géo-Sciences demandant sa réorientation en licence SV devra avoir validé le nombre d’ECTS suffisant pour accéder à l’année de réorientation et plus de 80% des UE de SV.
A54: Dans le cas ou la demande concerne une réorientation en cours d'année (au semestre pair), l'étudiant(e) devra avoir validé le semestre impair de la DL et plus de 80% des UE de SV.
A55: Dans le cas ou le semestre impair de la DL n'est pas validé, l'étudiant(e) devra valider le semestre impair de la DL en session 2.
A56: Dans tous les cas contraires, un redoublement sera peut être exigé. L'acceptation de la réorientation devra avoir obtenu l'accord de la commission pédagogique.
A58: Si un.e étudiant.e présente un certificat médical de longue maladie, le redoublement pourra être envisagé par le jury en fonction des paramètres dont il dispose.
A59: Le passage de la DL-BGS à la licence SV suit les règles du portail et licence SV ainsi que celles du fonctionnement du portail SV et toute ré-orientation doit avoir obtenu l'accord du responsable d'année et/ou du portail SV
A60: REDOUBLEMENT
A61: pas de redoublement autorisé
A63: Textes réglementaires
A64: Arrêté du 30 juillet 2018 relatif au diplôme national de licence
A65: Arrêté du 22 janvier 2014 fixant le cadre national des formations conduisant à la délivrance des diplômes nationaux de licence, de licence professionnelle et de master

Sheet S5 Maquette
A7: Composante | B7: ='Fiche Générale'!B3 -> Portail_ST | C7: Diplôme | E7: ='Fiche Générale'!B4 -> Sciences de la terre-Sciences de la vie | G7: Code diplôme | H7: ='Fiche Générale'!B5 -> 0
C10: Parcours type | E10: ='Fiche Générale'!B9 -> 0
A13: Année | B13: 3 ème Année de Licence | C13: Code année | G13: Heures Maquette | H13: ='Calcul'!A7 -> 540
A15: Semestre | B15: Semestre 5 | C15: Code semestre | G15: Heures Valorisées | H15: ='Calcul'!A20 -> 0
A18: Niveau | B18: Libellé ELP | C18: Nature ELP | D18: ECTS | E18: Type | F18: Statut | G18: Code Apogée | H18: CNU | I18: Heure CM | J18: Heure TD | K18: Heure TP | L18: Langues | M18: Mutualisation | N18: Formation Porteuse | O18: Observations / Remarques ex: Intervention à titre gracieux / Capacité d'accueil max
A19: 0 | B19: UE Competences transversales 5 | C19: UE | D19: 6
A20: 0.1 | B20: Competences numeriques 3 | C20: ECUE
A21: 0.2 | B21: Competences informationnelles 3 | C21: ECUE
A22: 0.3 | B22: Anglais 5 | C22: ECUE
A23: 1 | B23: Pétrologie et Géochimie 2 | C23: UE | D23: 6 | H23: 35-Structure et évolution de la Terre et des autres planètes | I23: 22 | J23: 4 | K23: 50 | M23: Portée | N23: L3 Sciences de la Terre
A24: 2 | B24: Aléas et risques naturels | C24: UE | D24: 6 | H24: 35-Structure et évolution de la Terre et des autres planètes | I24: 32 | J24: 16 | K24: 15 | M24: Portée | N24: L3 Sciences de la Terre
A25: 3 | B25: Failles et Séismes | C25: UE | D25: 6 | F25: Fermeture | H25: 35-Structure et évolution de la Terre et des autres planètes | I25: 30 | J25: 22 | K25: 15 | M25: Portée | N25: L3 Sciences de la Terre
A26: 3 | B26: Géologie structurale | C26: UE | D26: 6 | H26: 35-Structure et évolution de la Terre et des autres planètes | I26: 10 | J26: 14 | K26: 42 | M26: Portée | N26: L3 Sciences de la Terre
A27: 5 | B27: Ecotoxicologie et BioInformatique | C27: UE | D27: 6 | F27: Fermeture
A28: 5.1 | B28: introduction à l'Ecotoxicologie | C28: ECUE | H28: 66-Physiologie | I28: 16 | J28: 12 | K28: 0 | M28: Portée | N28: L3 BOE
A29: 5.2 | B29: Bio-informatique | C29: ECUE | H29: 64-Biochimie et biologie moléculaire | I29: 12 | J29: 0 | K29: 20 | M29: Portée | N29: L3 BMG
A30: 5.3 | B30: Analyse Intégrative | C30: ECUE | H30: 67-Biologie des populations et écologie | I30: 0 | J30: 2 | K30: 0 | M30: Portée | N30: L3 BMG
A31: 4 | B31: Bioinformatique et biologie comportementale | C31: UE | D31: 6 | F31: Création
A32: 4.1 | B32: Biologie comportementale | C32: ECUE | H32: 69-Neurosciences | I32: 14 | J32: 4 | K32: 0 | M32: Portée | N32: L3 BOE
A33: 4.2 | B33: Bio-informatique | C33: ECUE | H33: 64-Biochimie et biologie moléculaire | I33: 12 | J33: 0 | K33: 20 | M33: Portée | N33: L3 BMG | O33: TP en salle informatique - Taux encadrement : 1 EC pour 20 ET
A34: 4.3 | B34: Analyse bio-informatique | C34: ECUE | F34: Création | H34: 67-Biologie des populations et écologie | I34: 0 | J34: 2 | K34: 0 | M34: Portée | N34: L3 BMG | O34: ce n'est pas une ECUE spécifique. Ils 'agit de l'ECUE analyse intégrative qui est commune avec le L3SV, dont toutefois le contrôle de connaissances va être légèrement différent entre les L3SV et les DL3-BGS (ces derniers ne suivent pas l'UE SEG nécessaire aussi à analyse intégrative). Donc, les responsables, M. Collinet et Mme Robbe, souhaitent que l'intitulé et le code apogée soient différents afin de ne pas encourager les comparaisons de sujets et les récriminations ultérieures.
A35: 5 | B35: Ecosystèmes et Ecotoxicologie | C35: UE | D35: 6
A36: 5.1 | B36: Ecosystèmes | C36: ECUE | H36: 67-Biologie des populations et écologie | I36: 20 | J36: 14 | M36: Portée | N36: L3 BOE
A37: 5.2 | B37: Introduction à l'Ecotoxicologie | C37: ECUE | H37: 66-Physiologie | I37: 16 | J37: 12 | M37: Portée | N37: L3 BOE

Sheet S5 MCC
A7: Composante | B7: ='Fiche Générale'!B3 -> Portail_ST | C7: Diplôme | E7: ='Fiche Générale'!B4 -> Sciences de la terre-Sciences de la vie | G7: Code diplôme | H7: ='Fiche Générale'!B5 -> 0
C10: Parcours type | E10: ='Fiche Générale'!B9 -> 0
M12: 1ère session | R12: Seconde Chance
A13: Année | B13: ='S5 Maquette'!B13:B14 -> 3 ème Année de Licence | D13: Code Année | E13: ='S5 Maquette'!E13:F14
M14: Contrôle continu | N14: Contrôle Terminal | P14: Contrôle Final
A15: Semestre | B15: ='S5 Maquette'!B15:B16 -> Semestre 5 | D15: Code Semestre | E15: ='S5 Maquette'!E15:F16
A18: Libellé | B18: Nature | C18: Statut | D18: Coefficient | E18: Notes attendues | F18: Résultat attendu: (ACQ/AJ) | G18: Conservation note | H18: Capitalisable | I18: Compensable | J18: Seuil de compensation /20 | K18: Type de contrôle | L18: Si CC&CT coef du CT | M18: Nbre d'évalution minimum | N18: Nature | O18: Durée | P18: Nature | Q18: Durée | R18: Format d'évaluation | S18: Nature | T18: Durée | U18: Modalités de mise en œuvre | V18: Commentaires
A19: ='S5 Maquette'!B19 -> UE Competences transversales 5 | B19: ='S5 Maquette'!C19 -> UE | C19: Modification MCC
A20: ='S5 Maquette'!B20 -> Competences numeriques 3 | B20: ='S5 Maquette'!C20 -> ECUE | C20: Modification MCC
A21: ='S5 Maquette'!B21 -> Competences informationnelles 3 | B21: ='S5 Maquette'!C21 -> ECUE | C21: Modification MCC
A22: ='S5 Maquette'!B22 -> Anglais 5 | B22: ='S5 Maquette'!C22 -> ECUE | C22: Modification MCC
A23: ='S5 Maquette'!B23 -> Pétrologie et Géochimie 2 | B23: ='S5 Maquette'!C23 -> UE | C23: Modification MCC | E23: OUI | F23: OUI | G23: OUI | H23: OUI | I23: OUI | J23: 6 | K23: CC&CT | L23: 0.5 | M23: 3 | N23: Écrit | O23: 3h | R23: CT (Contrôle terminal) | S23: Écrit | T23: 2h | V23: si jamais les effectifs en Seconde Chance sont faibles, possibilité de faire passer un oral 30 minutes. Mutualisation LST
A24: ='S5 Maquette'!B24 -> Aléas et risques naturels | B24: ='S5 Maquette'!C24 -> UE | C24: Modification MCC | E24: OUI | F24: OUI | G24: OUI | H24: OUI | I24: OUI | J24: 6 | K24: CC&CT | L24: 0.5 | M24: 3 | N24: Écrit | O24: 3h | R24: CT (Contrôle terminal) | S24: Écrit | T24: 2h | V24: si jamais les effectifs en Seconde Chance sont faibles, possibilité de faire passer un oral 30 minutes. Mutualisation LST
A25: ='S5 Maquette'!B25 -> Failles et Séismes | B25: ='S5 Maquette'!C25 -> UE | C25: Modification MCC | E25: OUI | F25: OUI | G25: OUI | H25: OUI | I25: OUI | J25: 6 | K25: CC&CT | L25: 0.5 | M25: 3 | N25: Écrit | O25: 3h | R25: CT (Contrôle terminal) | S25: Écrit | T25: 2h | V25: si jamais les effectifs en Seconde Chance sont faibles, possibilité de faire passer un oral 30 minutes. Mutualisation LST
A26: ='S5 Maquette'!B26 -> Géologie structurale | B26: ='S5 Maquette'!C26 -> UE | C26: Modification MCC | E26: OUI | F26: OUI | G26: OUI | H26: OUI | I26: OUI | J26: 6 | K26: CC&CT | L26: 0.5 | M26: 3 | N26: Écrit | O26: 3h | R26: CT (Contrôle terminal) | S26: Écrit | T26: 2h | V26: si jamais les effectifs en Seconde Chance sont faibles, possibilité de faire passer un oral 30 minutes. Mutualisation LST
A27: ='S5 Maquette'!B27 -> Ecotoxicologie et BioInformatique | B27: ='S5 Maquette'!C27 -> UE | C27: Modification MCC | E27: OUI | F27: OUI | G27: OUI | H27: OUI | I27: OUI | J27: 6 | K27: CCI (CC Intégral) | M27: 3
A28: ='S5 Maquette'!B31 -> Bioinformatique et biologie comportementale | B28: ='S5 Maquette'!C31 -> UE | C28: Modification MCC | J28: 6
A29: ='S5 Maquette'!B32 -> Biologie comportementale | B29: ='S5 Maquette'!C32 -> ECUE | C29: Modification MCC | D29: 0.3 | E29: OUI | F29: OUI | G29: OUI | H29: OUI | I29: OUI | P29: Écrit | Q29: 2h | R29: CT (Contrôle terminal) | S29: Écrit | T29: 2h | V29: TP en salle informatique : taux d'encadrement TP : 1EC pour 20 ET
A30: ='S5 Maquette'!B33 -> Bio-informatique | B30: ='S5 Maquette'!C33 -> ECUE | C30: Modification MCC | D30: 0.5 | E30: OUI | F30: OUI | G30: OUI | H30: OUI | I30: OUI | P30: Rapport/Mémoire | Q30: pas de CT | T30: pas de session 2 | U30: session unique : pas de session 2 | V30: session unique : pas de session 2
A31: ='S5 Maquette'!B34 -> Analyse bio-informatique | B31: ='S5 Maquette'!C34 -> ECUE | C31: Modification MCC | D31: 0.2
A32: ='S5 Maquette'!B35 -> Ecosystèmes et Ecotoxicologie | B32: ='S5 Maquette'!C35 -> UE | C32: Modification MCC | J32: 6
A33: ='S5 Maquette'!B36 -> Ecosystèmes | B33: ='S5 Maquette'!C36 -> ECUE | C33: Modification MCC | D33: 0.5 | E33: OUI | F33: OUI | G33: OUI | H33: OUI | I33: OUI | P33: ecrit | Q33: 1 à 2h | R33: CT (Contrôle terminal) | S33: Écrit | T33: 1 à 2h | V33: session 2 : écrit (1 à 2h) ou oral (20 min) selon effectif
A34: ='S5 Maquette'!B37 -> Introduction à l'Ecotoxicologie | B34: ='S5 Maquette'!C37 -> ECUE | C34: Modification MCC | D34: 0.5 | E34: OUI | F34: OUI | G34: OUI | H34: OUI | I34: OUI | P34: ecrit | Q34: 1 à 2h | R34: CT (Contrôle terminal) | S34: Écrit | T34: 1 à 2h
A35: ='S5 Maquette'!B38 -> 0 | B35: ='S5 Maquette'!C38 -> 0 | C35: Modification MCC
A36: ='S5 Maquette'!B39 -> 0 | B36: ='S5 Maquette'!C39 -> 0 | C36: Modification MCC
A37: ='S5 Maquette'!B40 -> 0 | B37: ='S5 Maquette'!C40 -> 0 | C37: Modification MCC
A38: ='S5 Maquette'!B41 -> 0 | B38: ='S5 Maquette'!C41 -> 0 | C38: Modification MCC
A39: ='S5 Maquette'!B42 -> 0 | B39: ='S5 Maquette'!C42 -> 0 | C39: Modification MCC
A40: ='S5 Maquette'!B43 -> 0 | B40: ='S5 Maquette'!C43 -> 0 | C40: Modification MCC
A41: ='S5 Maquette'!B44 -> 0 | B41: ='S5 Maquette'!C44 -> 0 | C41: Modification MCC
A42: ='S5 Maquette'!B45 -> 0 | B42: ='S5 Maquette'!C45 -> 0 | C42: Modification MCC
A43: ='S5 Maquette'!B46 -> 0 | B43: ='S5 Maquette'!C46 -> 0 | C43: Modification MCC
A44: ='S5 Maquette'!B47 -> 0 | B44: ='S5 Maquette'!C47 -> 0 | C44: Modification MCC
A45: ='S5 Maquette'!B48 -> 0 | B45: ='S5 Maquette'!C48 -> 0 | C45: Modification MCC
A46: ='S5 Maquette'!B49 -> 0 | B46: ='S5 Maquette'!C49 -> 0 | C46: Modification MCC
... A296: ='S5 Maquette'!B299 -> 0 | B296: ='S5 Maquette'!C299 -> 0 | C296: Modification MCC

Sheet S6 Maquette
A7: Composante | B7: ='Fiche Générale'!B3 -> Portail_ST | C7: Diplôme | E7: ='Fiche Générale'!B4 -> Sciences de la terre-Sciences de la vie | G7: Code diplôme | H7: ='Fiche Générale'!B5 -> 0
C10: Parcours type | E10: ='Fiche Générale'!B9 -> 0
A13: Année | B13: ='S5 Maquette'!B13:B14 -> 3 ème Année de Licence | C13: Code année | E13: ='S5 Maquette'!E13:F14 | G13: Heures Maquette | H13: ='Calcul'!D7 -> 572
A15: Semestre | B15: Semestre 6 | C15: Code semestre | G15: Heures Valorisées | H15: ='Calcul'!D20
A18: Niveau | B18: Libellé ELP | C18: Nature ELP | D18: ECTS | E18: Type | F18: Statut | G18: Code Apogée | H18: CNU | I18: Heure CM | J18: Heure TD | K18: Heure TP | L18: Langues | M18: Mutualisation | N18: Formation Porteuse | O18: Observations / Remarques ex: Intervention à titre gracieux / Capacité d'accueil max
A19: 0 | B19: UE Competences transversales 6 | C19: UE | D19: 6
A20: 0.1 | B20: Competences numeriques 3 | C20: ECUE
A21: 0.2 | B21: Competences informationnelles 3 | C21: ECUE
A22: 0.3 | B22: Anglais 6 | C22: ECUE
A23: 1 | B23: Du terrain au modèle géodynamique | C23: UE | D23: 6 | H23: 35-Structure et évolution de la Terre et des autres planètes | I23: 10 | J23: 8 | K23: 52 | M23: Portée | N23: L3 Sciences de la Terre | O23: Comprend un stage de terrain de 7 jours soit 49h TP
A24: 2 | B24: Géologie appliquée et de la subsurface | C24: UE | D24: 6 | H24: 36-Terre solide : géodynamique des enveloppes supérieures, paléo-biosphère | I24: 30 | J24: 22 | K24: 15 | M24: Portée | N24: L3 Sciences de la Terre | O24: Comprend 2 sorties d'une journée chacune (7h TP/jour)
A25: 3 | B25: Structure et fonctionnement des réservoirs fluides | C25: UE | D25: 6 | H25: 36-Terre solide : géodynamique des enveloppes supérieures, paléo-biosphère | I25: 20 | J25: 20 | K25: 24 | M25: Portée | N25: L3 Sciences de la Terre
A26: 4 | B26: Environnement | C26: UE | D26: 6
A27: 4.1 | B27: Biodiversité Générale | C27: ECUE | H27: 67-Biologie des populations et écologie | I27: 20 | J27: 6 | K27: 9 | M27: Portée | N27: L3 SV BOE | O27: (TP = 7h sortie terrain + 2h oraux) - Taux encadrement sortie terrain et oraux : 1 EC pour 15 ET
A28: 4.2 | B28: ECUE AU CHOIX | C28: ECUE
B29: min 1ECUE-Max 1ECUE | C29: OPTION
A30: 4.2.1 | B30: Biologie écologie marine | C30: ECUE | H30: 67-Biologie des populations et écologie | I30: 26 | J30: 4 | K30: 7 | M30: Portée | N30: L3 SV BOE
A31: 4.2.2 | B31: histoire évolutive des Angiospermes | C31: ECUE | H31: 67-Biologie des populations et écologie | I31: 24 | J31: 0 | K31: 18 | M31: Portée | N31: L3 SV BMG
A32: 5 | B32: Biologie des Adaptations et Evolution | C32: UE | D32: 6 | F32: Fermeture
A33: 5.1 | B33: Biologie des adaptation, interactions durable et évolution | C33: ECUE | H33: 68-Biologie des organismes | I33: 30 | J33: 18 | K33: 0 | M33: Portée | N33: L3 SV BMG
A34: 5.2 | B34: Projet communication scientifique | C34: ECUE | H34: 68-Biologie des organismes | I34: 4 | J34: 0 | K34: 20 | M34: Portée | N34: L3 SV BMG | O34: Taux encadrement TP/projet : 1 EC pour 20 ET
A35: 5 | B35: Biologie des Adaptations et statistiques | C35: UE | D35: 6 | F35: Création
A36: 5.1 | B36: Biologie des adaptation et interactions durables | C36: ECUE | H36: 68-Biologie des organismes | I36: 30 | J36: 18 | M36: Portée | N36: L3 SV BMG
A37: 5.2 | B37: Statistiques II | C37: ECUE | H37: 26-Mathématiques appliquées et applications des mathématiques | I37: 16 | J37: 4 | K37: 12 | M37: Portée | N37: L3 SV BOE | O37: TP en salle informatique - Taux encadrement TP : 1 EC pour 20 ET

Sheet S6 MCC
A7: Composante | B7: ='Fiche Générale'!B3 -> Portail_ST | C7: Diplôme | E7: ='Fiche Générale'!B4 -> Sciences de la terre-Sciences de la vie | G7: Code diplôme | H7: ='Fiche Générale'!B5 -> 0
C10: Parcours type | E10: ='Fiche Générale'!B9 -> 0
M12: 1ère session | R12: Seconde Chance
A13: Année | B13: ='S6 Maquette'!B13:B14 -> 3 ème Année de Licence | D13: Code Année | E13: ='S6 Maquette'!E13:F14
M14: Contrôle continu | N14: Contrôle Terminal | P14: Contrôle Final
A15: Semestre | B15: ='S6 Maquette'!B15:B16 -> Semestre 6 | D15: Code Semestre | E15: ='S6 Maquette'!E15:F16
A18: Libellé | B18: Nature | C18: Statut | D18: Coefficient | E18: Notes attendues | F18: Résultat attendu: (ACQ/AJ) | G18: Conservation note | H18: Capitalisable | I18: Compensable | J18: Seuil de compensation /20 | K18: Type de contrôle | L18: Si CC&CT coef du CT | M18: Nbre d'évalution minimum | N18: Nature | O18: Durée | P18: Nature | Q18: Durée | R18: Format d'évaluation | S18: Nature | T18: Durée | U18: Modalités de mise en œuvre | V18: Commentaires
A19: ='S6 Maquette'!B19 -> UE Competences transversales 6 | B19: ='S6 Maquette'!C19 -> UE | C19: Modification MCC
A20: ='S6 Maquette'!B20 -> Competences numeriques 3 | B20: ='S6 Maquette'!C20 -> ECUE | C20: Modification MCC
A21: ='S6 Maquette'!B21 -> Competences informationnelles 3 | B21: ='S6 Maquette'!C21 -> ECUE | C21: Modification MCC
A22: ='S6 Maquette'!B22 -> Anglais 6 | B22: ='S6 Maquette'!C22 -> ECUE | C22: Modification MCC
A23: ='S6 Maquette'!B23 -> Du terrain au modèle géodynamique | B23: ='S6 Maquette'!C23 -> UE | C23: Modification MCC | E23: OUI | F23: OUI | G23: OUI | H23: OUI | I23: OUI | J23: 6 | K23: CC&CT | L23: 0.5 | M23: 3 | N23: Écrit | O23: 3h | R23: CT (Contrôle terminal) | S23: Écrit | T23: 2h | V23: si jamais les effectifs en Seconde Chance sont faibles, possibilité de faire passer un oral 30 minutes. Mutualisation DL SP-ST
A24: ='S6 Maquette'!B24 -> Géologie appliquée et de la subsurface | B24: ='S6 Maquette'!C24 -> UE | C24: Modification MCC | E24: OUI | F24: OUI | G24: OUI | H24: OUI | I24: OUI | J24: 6 | K24: CC&CT | L24: 0.5 | M24: 3 | N24: Écrit | O24: 3h | R24: CT (Contrôle terminal) | S24: Écrit | T24: 2h | V24: si jamais les effectifs en Seconde Chance sont faibles, possibilité de faire passer un oral 30 minutes. Mutualisation DL SP-ST
A25: ='S6 Maquette'!B25 -> Structure et fonctionnement des réservoirs fluides | B25: ='S6 Maquette'!C25 -> UE | C25: Modification MCC | E25: OUI | F25: OUI | G25: OUI | H25: OUI | I25: OUI | J25: 6 | K25: CC&CT | L25: 0.5 | M25: 3 | N25: Écrit | O25: 3h | R25: CT (Contrôle terminal) | S25: Écrit | T25: 2h | V25: si jamais les effectifs en Seconde Chance sont faibles, possibilité de faire passer un oral 30 minutes. Mutualisation DL SP-ST
A26: ='S6 Maquette'!B26 -> Environnement | B26: ='S6 Maquette'!C26 -> UE | C26: Modification MCC | E26: OUI | F26: OUI | J26: 6 | K26: CCI (CC Intégral) | M26: 3
A27: ='S6 Maquette'!B27 -> Biodiversité Générale | B27: ECUE | C27: Modification MCC | D27: 0.5 | E27: OUI | F27: OUI | G27: OUI | H27: OUI | I27: OUI | P27: Écrit | Q27: 2h | R27: CT (Contrôle terminal) | S27: Écrit | T27: 1h30 | V27: session 2 : écrit (1h30) ou oral (20min) selon effectif
A28: ECUE AU CHOIX | C28: Modification MCC
A29: min 1 ECUE-Max 1 ECUE | B29: ='S6 Maquette'!C27 -> ECUE | C29: Modification MCC
A30: ='S6 Maquette'!B30 -> Biologie écologie marine | B30: ='S6 Maquette'!C30 -> ECUE | C30: Modification MCC | D30: 0.5 | E30: OUI | F30: OUI | G30: OUI | H30: OUI | I30: OUI | J30: 6 | P30: Écrit | Q30: 1h30 | R30: CT (Contrôle terminal) | S30: Écrit | T30: 1h30
A31: ='S6 Maquette'!B31 -> histoire évolutive des Angiospermes | B31: ='S6 Maquette'!C31 -> ECUE | C31: Modification MCC | D31: 0.5 | E31: OUI | F31: OUI | G31: OUI | H31: OUI | I31: OUI | J31: 6 | P31: Écrit | Q31: 2h | R31: CT (Contrôle terminal) | S31: Écrit | T31: 2h
A32: ='S6 Maquette'!B32 -> Biologie des Adaptations et Evolution | B32: ='S6 Maquette'!C32 -> UE | C32: Modification MCC | E32: OUI | F32: OUI | G32: OUI | H32: OUI | I32: OUI | J32: 6 | K32: CCI (CC Intégral) | M32: 3
A33: ='S6 Maquette'!B33 -> Biologie des adaptation, interactions durable et évolution | B33: ='S6 Maquette'!C33 -> ECUE | C33: Modification MCC | D33: 0.7 | E33: OUI | F33: OUI | G33: OUI | H33: OUI | I33: OUI | P33: Écrit | Q33: 2h | R33: CT (Contrôle terminal) | S33: Écrit | T33: 2h
A34: ='S6 Maquette'!B34 -> Projet communication scientifique | B34: ='S6 Maquette'!C34 -> ECUE | C34: Modification MCC | D34: 0.3 | E34: OUI | F34: OUI | G34: OUI | H34: OUI | I34: OUI | P34: Oral | Q34: 30 min/ET | T34: pas de session 2 | U34: session unique, pas de session 2 - Session 1 : bloquer une journée (présentation d'un article scientifique)
A35: ='S6 Maquette'!B35 -> Biologie des Adaptations et statistiques | B35: ='S6 Maquette'!C35 -> UE | C35: Modification MCC
A36: ='S6 Maquette'!B36 -> Biologie des adaptation et interactions durables | B36: ='S6 Maquette'!C36 -> ECUE | C36: Modification MCC
A37: ='S6 Maquette'!B37 -> Statistiques II | B37: ='S6 Maquette'!C37 -> ECUE | C37: Modification MCC
A38: ='S6 Maquette'!B38 -> 0 | B38: ='S6 Maquette'!C38 -> 0 | C38: Modification MCC
A39: ='S6 Maquette'!B39 -> 0 | B39: ='S6 Maquette'!C39 -> 0 | C39: Modification MCC
A40: ='S6 Maquette'!B40 -> 0 | B40: ='S6 Maquette'!C40 -> 0 | C40: Modification MCC
A41: ='S6 Maquette'!B41 -> 0 | B41: ='S6 Maquette'!C41 -> 0 | C41: Modification MCC
A42: ='S6 Maquette'!B42 -> 0 | B42: ='S6 Maquette'!C42 -> 0 | C42: Modification MCC
A43: ='S6 Maquette'!B43 -> 0 | B43: ='S6 Maquette'!C43 -> 0 | C43: Modification MCC
A44: ='S6 Maquette'!B44 -> 0 | B44: ='S6 Maquette'!C44 -> 0 | C44: Modification MCC
A45: ='S6 Maquette'!B45 -> 0 | B45: ='S6 Maquette'!C45 -> 0 | C45: Modification MCC
A46: ='S6 Maquette'!B46 -> 0 | B46: ='S6 Maquette'!C46 -> 0 | C46: Modification MCC
... A302: ='S6 Maquette'!B302 -> 0 | B302: ='S6 Maquette'!C302 -> 0 | C302: Modification MCC
