Workbook
Name list_cmp: Listes!$A$10:$G$10
Name List_CNU: Listes!$A$27:$A$83
Name List_Controle: Listes!$B$2:$B$6
Name List_Controle2: Listes!$A$2:$A$4
Name List_Mutualisation: Listes!$E$2:$E$3
Name List_RegimeInscription: Listes!$C$2:$C$3
Name List_Statut: Listes!$F$2:$F$4
Name list_typdiplome: Listes!$H$3:$H$4
Name List_Type: Listes!$G$2:$G$3
Name liste_cmp: #REF!
Name liste_cmp: #REF!
Name liste_cmp: #REF!
Name liste_cmp: #REF!
Name liste_mention: #REF!
Name liste_mention: #REF!
Name liste_mention: #REF!
Name liste_mention: #REF!
Name Médecine: #REF!
Name Médecine: #REF!
Name Médecine: #REF!
Name Médecine: #REF!
Name Por: #REF!
Name Por: #REF!
Name Por: #REF!
Name Por: #REF!
Name Portail_Droit: Listes!$A$11:$A$12
Name Portail_EG: Listes!$B$11:$B$12
Name Portail_LLAC: Listes!$D$11:$D$19
Name Portail_SHS: #REF!
Name Portail_SHS: #REF!
Name Portail_SHS: #REF!
Name Portail_SHS: Listes!$C$11:$C$22
Name Portail_ST: Listes!$E$11:$E$27
Name Portail_STAPS: Listes!$G$11:$G$14
Name Portail_SV: Listes!$F$11:$F$14
Name tab_code: #REF!
Name tab_code: #REF!
Name tab_code: #REF!
Name tab_code: #REF!
Name tab_code_dip: Listes!$J$1:$L$51

Sheet Listes
A1: Type contrôle | B1: Nature contrôle | C1: Régime d'inscription | D1: Nature ELP | E1: Mutualisation | F1: Statut | G1: Type | J1: Mention | K1: Codage Diplôme | L1: Codage double licence
A2: CCI (CC Intégral) | B2: Écrit | C2: Initiale Hors-Apprentissage / Formation Continue / Formation Permanente | D2: UE | E2: Porteuse | F2: Création | G2: Facultatif | H2: Type Diplôme | J2: Sciences de la Vie | K2: SLVIE18
A3: CT (Contrôle terminal) | B3: Oral | C3: Contrat d'Apprentissage/ Contrat de Professionnalisation | D3: ECUE | E3: Portée | F3: Modification | G3: Complémentaire | H3: Licence | J3: Droit | K3: DLDRT18
A4: CC&CT | B4: Écrit/Pratique | D4: BLOC | F4: Fermeture | H4: Double Licence | J4: Économie et gestion | K4: ILECG18
B5: Rapport/Mémoire | D5: OPTION | J5: Économie et gestion | K5: GLECG18
B6: Pratique sportive | D6: Parcours Pédagogique | J6: Information-communication | K6: HLICO18
J7: Arts du spectacle | K7: HLARS18
J8: Musicologie | K8: HLMUS18
J9: Lettres | K9: HLLET18
A10: Portail_Droit | B10: Portail_EG | C10: Portail_SHS | D10: Portail_LLAC | E10: Portail_ST | F10: Portail_SV | G10: Portail_STAPS | J10: Lettres étrangères appliquées (LEA) | K10: HLEAP18
A11: Droit | B11: Économie et gestion | C11: Sciences de l'homme, anthropologie, ethnologie | D11: Information-communication | E11: Sciences de la terre | F11: Sciences de la vie | G11: STAPS-Activité Physique Adaptée-Santé | J11: Langues, littératures et civilisations étrangères et régionales (LLCER) | K11: HLCER18
A12: Droit-Philosophie | B12: Économie-Sociologie | C12: Psychologie | D12: Arts du spectacle | E12: Sciences et technologies | F12: Sciences de la vie-Chimie | G12: STAPS-Education et Motricité | J12: Sciences de l'homme, anthropologie, ethnologie | K12: HLTSH18
C13: Histoire | D13: Musicologie | E13: Physique | F13: Sciences de la vie-Mathématiques | G13: STAPS-Entraînement Sportif | J13: Psychologie | K13: HLPSY18
C14: Sociologie | D14: Lettres | E14: Mathématiques | F14: Bio-Geo-Sciences | G14: STAPS-Management du Sport | J14: Sciences du langage | K14: HLNDL18
C15: Philosophie | D15: Lettres étrangères appliquées (LEA) | E15: Chimie | J15: Histoire | K15: HLHIS18
C16: Humanités | D16: Langues, littératures et civilisations étrangères et régionales (LLCER) | E16: Mathématiques et Informatique appliquées aux sciences humaines et sociales (MIASHS) | J16: Philosophie | K16: HLOPH18
C17: Géographie et aménagement | D17: Sciences du langage | E17: Electronique, énergie électrique, automatique (EEA) | J17: Sociologie | K17: HLSOC18
C18: Philosophie-Droit | D18: Lettres-Histoire | E18: Informatique | J18: Sciences de la terre | K18: SLTER18
C19: Psychologie-Philosophie | D19: Musicologie - Sciences de l'homme, anthropologie, ethnologie | E19: Sciences de la terre-Sciences de la vie | J19: Sciences et technologies | K19: SLSIT18
C20: Philosophie-Psychologie | E20: Physique-Mathématiques | J20: Chimie | K20: SLCHI18
C21: Histoire-Lettres | E21: Mathématiques-Physique | J21: Physique | K21: SLPHY18
C22: Sociologie-Économie | E22: Informatique-Mathématiques | J22: Mathématiques | K22: SLMAT18
E23: Mathématiques-Informatique | J23: Mathématiques et Informatique appliquées aux sciences humaines et sociales (MIASHS) | K23: SLASH18
E24: Chimie-Sciences de la vie | J24: Electronique, énergie électrique, automatique (EEA) | K24: SLELE18
E25: Sciences de la terre-Physique | J25: Informatique | K25: SLINF18
A26: CNU | E26: Physique-Sciences de la terre | J26: Géographie et aménagement | K26: SLGEO18
A27: 01-Droit privé et sciences criminelles | E27: Mathématiques-Sciences de la vie | J27: STAPS-Activité Physique Adaptée-Santé | K27: PLAPA18
A28: 02-Droit public | J28: STAPS-Education et Motricité | K28: PLEMO18
A29: 03-Histoire du droit et des institutions | J29: STAPS-Entraînement Sportif | K29: PLSES18
A30: 04-Science politique | J30: STAPS-Management du Sport | K30: PLMSP18
A31: 05-Sciences économiques | J31: Humanités | K31: HLBHU18
A32: 06-Sciences de gestion | J32: Sciences de la vie-Chimie | K32: SLVIE18 | L32: SLCHI18
A33: 07-Sciences du langage : linguistique et phonétique générales | F33: l | J33: Sciences de la vie-Mathématiques | K33: SLVIE18 | L33: SLMAT18
A34: 08-Langues et littératures anciennes | J34: Bio-Geo-Sciences | K34: SLVIE18 | L34: SLTER18
A35: 09-Langue et littérature françaises | J35: Sciences de la terre-Sciences de la vie | K35: SLTER18 | L35: SLVIE18
A36: 10-Littératures comparées | J36: Physique-Mathématiques | K36: SLPHY18 | L36: SLPHY18
A37: 11-Langues et littératures anglaises et anglo-saxonnes | J37: Mathématiques-Physique | K37: SLMAT18 | L37: SLMAT18
A38: 12-Langues et littératures germaniques et scandinaves | J38: Informatique-Mathématiques | K38: SLINF18 | L38: SLMAT18
A39: 13-Langues et littératures slaves | J39: Mathématiques-Informatique | K39: SLMAT18 | L39: SLINF18
A40: 14-Langues et littératures romanes : espagnol, italien, portugais, autres langues romanes | J40: Chimie-Sciences de la vie | K40: SLCHI18 | L40: SLVIE18
...

Sheet Calcul
A1: Heure Pédagogique | O1: Heure CM
A3: Semestre 5 | D3: Semestre 6 | O3: Semestre 5 | P3: Semestre 6
A4: Heure CM | B4: Heure TD | C4: Heure TP | D4: Heure CM | E4: Heure TD | F4: Heure TP | O4: ='S5 Maquette'!I19*1.5 -> 0 | P4: ='S6 Maquette'!I19*1.5 -> 0
A5: =SUM(O4:O291) -> #REF! | B5: =SUM('S5 Maquette'!J19:J307) -> 96 | C5: =SUM('S5 Maquette'!K19:K307) -> 73 | D5: =SUM(P4:P291) -> #REF! | E5: =SUM('S6 Maquette'!J19:J302) -> 144 | F5: =SUM('S6 Maquette'!K19:K302) -> 175 | O5: ='S5 Maquette'!I20*1.5 -> 0 | P5: ='S6 Maquette'!I20*1.5 -> 0
A6: Total | D6: Total | O6: ='S5 Maquette'!I21*1.5 -> 0 | P6: ='S6 Maquette'!I21*1.5 -> 0
A7: =SUM(A5,B5,C5) -> #REF! | D7: =SUM(D5,E5,F5) -> #REF! | O7: ='S5 Maquette'!#REF!*1.5 -> #REF! | P7: ='S6 Maquette'!#REF!*1.5 -> #REF!
A8: Total | O8: ='S5 Maquette'!I30*1.5 -> 0 | P8: ='S6 Maquette'!I26*1.5 -> 0
O9: ='S5 Maquette'!I31*1.5 -> 27 | P9: ='S6 Maquette'!I27*1.5 -> 24
A10: =SUM(A7,D7) -> #REF! | O10: ='S5 Maquette'!I32*1.5 -> 18 | P10: ='S6 Maquette'!I28*1.5 -> 30
O11: ='S5 Maquette'!I33*1.5 -> 0 | P11: ='S6 Maquette'!I29*1.5 -> 0
O12: ='S5 Maquette'!I34*1.5 -> 0 | P12: ='S6 Maquette'!I30*1.5 -> 21
O13: ='S5 Maquette'!I35*1.5 -> 27 | P13: ='S6 Maquette'!I31*1.5 -> 27
A14: Heure Porté par la maquette | H14: Mutualisation Porteuse | O14: ='S5 Maquette'!I36*1.5 -> 30 | P14: ='S6 Maquette'!I33*1.5 -> 0
O15: ='S5 Maquette'!I37*1.5 -> 0 | P15: ='S6 Maquette'!I34*1.5 -> 0
A16: Semestre 5 | D16: Semestre 6 | H16: Semestre 5 | K16: Semestre 6 | O16: ='S5 Maquette'!I38*1.5 -> 42 | P16: ='S6 Maquette'!I35*1.5 -> 30
A17: Heure CM | B17: Heure TD | C17: Heure TP | D17: Heure CM | E17: Heure TD | F17: Heure TP | H17: Heure CM | I17: Heure TD | J17: Heure TP | K17: Heure CM | L17: Heure TD | M17: Heure TP | O17: ='S5 Maquette'!I39*1.5 -> 0 | P17: ='S6 Maquette'!I36*1.5 -> 3
A18: =A5-H18 -> #REF! | B18: =B5-I18 -> 96 | C18: =C5-J18 -> 73 | D18: =D5-K18 -> #REF! | E18: =E5-L18 -> 144 | F18: =F5-M18 -> 175 | H18: =SUMIF('S5 Maquette'!M19:M307,"Portée",'S5 Maquette'!I19:I307)*1.5 -> 0 | I18: =SUMIF('S5 Maquette'!M19:M307,"Portée",'S5 Maquette'!J19:J307) -> 0 | J18: =SUMIF('S5 Maquette'!M19:M307,"Portée",'S5 Maquette'!K19:K307) -> 0 | K18: =SUMIF('S6 Maquette'!M19:M302,"Portée",'S6 Maquette'!I19:I302)*1.5 -> 0 | L18: =SUMIF('S6 Maquette'!M19:M302,"Portée",'S6 Maquette'!J19:J302) -> 0 | M18: =SUMIF('S6 Maquette'!M9:M302,"Portée",'S6 Maquette'!K19:K302) -> 0 | O18: ='S5 Maquette'!I40*1.5 -> 0 | P18: ='S6 Maquette'!I37*1.5 -> 0
A19: Total | D19: Total | O19: ='S5 Maquette'!I41*1.5 -> 27 | P19: ='S6 Maquette'!I38*1.5 -> 24
A20: =SUM(A18,B18,C18) -> #REF! | D20: =SUM(D18,E18,F18) -> #REF! | O20: ='S5 Maquette'!I42*1.5 -> 15 | P20: ='S6 Maquette'!I39*1.5 -> 36
A21: Total | O21: ='S5 Maquette'!I43*1.5 -> 0 | P21: ='S6 Maquette'!I41*1.5 -> 0
A22: =SUM(A20,D20) -> #REF! | O22: ='S5 Maquette'!I44*1.5 -> 0 | P22: ='S6 Maquette'!I42*1.5 -> 0
O23: ='S5 Maquette'!I45*1.5 -> 0 | P23: ='S6 Maquette'!I43*1.5 -> 48
O24: ='S5 Maquette'!I46*1.5 -> 0 | P24: ='S6 Maquette'!I45*1.5 -> 0
O25: ='S5 Maquette'!I47*1.5 -> 0 | P25: ='S6 Maquette'!I46*1.5 -> 0
O26: ='S5 Maquette'!I48*1.5 -> 0 | P26: ='S6 Maquette'!I47*1.5 -> 0
O27: ='S5 Maquette'!I49*1.5 -> 0 | P27: ='S6 Maquette'!I48*1.5 -> 39
O28: ='S5 Maquette'!I50*1.5 -> 0 | P28: ='S6 Maquette'!I49*1.5 -> 0
O29: ='S5 Maquette'!I51*1.5 -> 0 | P29: ='S6 Maquette'!I50*1.5 -> 45
O30: ='S5 Maquette'!I52*1.5 -> 0 | P30: ='S6 Maquette'!I52*1.5 -> 0
O31: ='S5 Maquette'!I53*1.5 -> 0 | P31: ='S6 Maquette'!I53*1.5 -> 9
O32: ='S5 Maquette'!I54*1.5 -> 0 | P32: ='S6 Maquette'!I54*1.5 -> 0
O33: ='S5 Maquette'!I55*1.5 -> 0 | P33: ='S6 Maquette'!I55*1.5 -> 0
O34: ='S5 Maquette'!I56*1.5 -> 0 | P34: ='S6 Maquette'!I56*1.5 -> 0
O35: ='S5 Maquette'!I57*1.5 -> 0 | P35: ='S6 Maquette'!I57*1.5 -> 0
O36: ='S5 Maquette'!I58*1.5 -> 0 | P36: ='S6 Maquette'!#REF!*1.5 -> #REF!
O37: ='S5 Maquette'!I59*1.5 -> 0 | P37: ='S6 Maquette'!#REF!*1.5 -> #REF!
O38: ='S5 Maquette'!I60*1.5 -> 0 | P38: ='S6 Maquette'!#REF!*1.5 -> #REF!
O39: ='S5 Maquette'!I61*1.5 -> 0 | P39: ='S6 Maquette'!#REF!*1.5 -> #REF!
O40: ='S5 Maquette'!I62*1.5 -> 0 | P40: ='S6 Maquette'!#REF!*1.5 -> #REF!
O41: ='S5 Maquette'!I63*1.5 -> 0 | P41: ='S6 Maquette'!I58*1.5 -> 0
...

Sheet Fiche Générale
A1: Type Diplôme : Licence & Double Licence 3ème année
A2: Type diplôme | B2: Licence
A3: COMPOSANTE | B3: Portail_SV
A4: MENTION | B4: Sciences de la vie
A5: CODE DIPLÔME | B5: SLVBM3
A6: Régime d'inscription | B6: Initiale Hors-Apprentissage / Formation Continue / Formation Permanente
A8: Parcours Type en L3
A9: Parcours Type | B9: Biologie Moléculaire et Génétique (BMG)
A11: Heures Maquette | C11: Heures Valorisées
A13: =Calcul!A10 -> #REF! | C13: =Calcul!A22 -> #REF!
A18: COMPENSATION
A19: Les MCC déterminent le mode de compensation entre UE, semestre et année ainsi que la possibilité d’une note éliminatoire.
A20: Obtention des UE
A21: *Les UE sont capitalisables si note supérieure ou égale à 10/20
A22: *Les ECUEs sont capitalisables et la durée de conservation est illimitée si note supérieure ou égale à 10/20
A23: *Toute ECUE et UE ayant une note finale supérieure ou égale à 10/20 est validée et ne peut pas être repassée.
A24: *Toute ECUE ayant un résultat inférieur à 10/20 au sein d'une UE ayant un résultat supérieur ou égal à 10/20 est validée par compensation et ne peut pas être repassée, même en cas de refus de compensation.
A25: *Compensation entre ECUE au sein d'une UE --> obtention UE si note supérieure ou égale à 10/20
A26: *Cas des redoublants : Sur demande écrite à l'aide de la fiche "renoncement" et en début de chaque semestre, les redoublants pourront demander à repasser les ECUEs validées par compensation au sein d'une UE validée, même en cas de validation du semestre. Dans ce dernier cas, cela invalide automatiquement le semestre acquis. La note de l'année en cours sera utilisée pour calculer le résultats à l'UE. Cette fiche équivaut à un contrat et devra avoir reçu l'accord du responsable du parcours concerné.
A28: Obtention du Semestre
A29: *Compensation entre UE constituant chaque parcours si aucune note n'est inférieure à 6/20 à l'UE --> obtention semestre si supérieur ou égale à 10/20
A30: *Compensation de l'UE compétences transversales (CT) par les UE disciplinaires au sein de chaque parcours SV si le calcul final à l'UE CTest supérieur ou égal à 8/20 avec un coéfficient de 2 pour l'ECUE anglais.
... A35: *Le semestre est acquis si après compensation, la moyenne est supérieure ou égale à 10/20.
A36: *UE stage, facultative au S5 permet l'ajout d'un bonus au semestre: si la note obtenue est comprise entre 10 et 12/20, le bonus est de 0.1; si la note obtenue est comprise entre 12 et 14/20, le bonus est de 0.2; au delà de 14/20, le bonus est de 0.25. Ce bonus peut s'ajouter à un bonus établissement mais ne peut pas permettre la validation du semestre. Ce bonus est conservé en session 2. | E36: en attente fin 2025-26
A37: *Absentéisme : Chaque responsable d’ECUE et/ou d’UE pourra appliquer un malus en cas d’absentéisme non justifié. Dans ce cas, les règles devront être clairement indiquées lors du premier cours de l’ECUE et/ou UE de l’année universitaire en cours et sur moodle. Elles ne pourront pas être changées ou introduites durant le semestre.
A38: *Toute absence (justifiée ou non justifiée) à un examen ayant un coef supérieur ou égal à 50% annule la compensation entre ECUE et UE. Le semestre est ajourné quelque soit le résultat obtenu.
A39: *Tout changement de parcours entre le S5 et le S6 devra étre demandé par écrit à l'aide de la fiche "changement de parcours" et visée par le responsable des parcours concernés.
A40: *Un étudiant SV ayant validé un semestre impair ou pair de l’année N-1 peut s’inscrire respectivement au semestre impair ou pair (S5 ou S6) de l’année L3 dans la mesure où il respecte les prérequis d’accès à ces UE. Il s'agira d'un étudiant UEAV. L'accès à 4 ECUEs du semestre S + 2 lui sera permis selon ses prérequis. Une fiche de demande d'inscription en UEAV devra étre remplie et visée par le coordonnateur d'année ou de parcours.
A42: Obtention de l'Année
A43: *Validation de chacun des semestres (supérieur ou égale à 10/20)
A44: *Pas de compensation entre les semestres
A46: Note éliminatoire/ Note seuil
A47: Il n'y a pas de note éliminatoire mais un seuil de compensation:
A48: < 6/20 à l'UE empéchant la compensation entre les UE
A49: *Toute absence (justifiée ou non justifiée) à un examen ayant un coef supérieur ou égal à 50% annule la compensation entre ECUE et UE. Le semestre est ajourné quelque soit le résultat obtenu.
A51: Validation diplôme
... A122: Arrêté du 22 janvier 2014 fixant le cadre national des formations conduisant à la délivrance des diplômes nationaux de licence, de licence professionnelle et de master

Sheet MCC ARE
A1: Dispositifs d'accompagnement reussite en licence : 3ieme année
A2: Etudiants Entrants en L3SV:
A3: *En début du S5, les étudiant(e)s entrants (BTS et autres) devront suivre obligatoirement une remise à niveau dans les disciplines clés pour réussir la 3ieme année. Cette remise à niveau consiste à participer à des séances en présentiel et à réaliser les exercices disponibles au sein du cours moodle dédié.
A5: *Pour les étudiants ayant validé la L2SV en session 2 :
A6: En début du S5, les étudiant(e)s ayant validé la L2SV en session 2 devront suivre obligatoirement une remise à niveau dans les disciplines clés pour réussir de la 3ieme année. Cette remise à niveau consiste à participer à des séances en présentiel et à réaliser les exercices disponibles au sein du cours moodle dédié.
A8: A l'issu des résultats du S5 :
A9: *Pour les étudiant(e)s AJ en session 1 du semestre 5: Ils devront participer obligatoirement aux séances de révision / remédiation pour la session 2, composée de séances de correction des sujets d'examens par ECUEs du semestre 5 qui sont réalisées entre la session 1 et la session 2. La présence est obligatoire et toute absence sera comptabilisée. Un planning des séances sera mis à disposition de l'étudiant.
A11: Pour tous les étudiant(e)s de L3SV
A12: *Au semestre 6, tous les étudiant(e)s inscrits en L3SV tout parcours, doivent assister et participer à l'UE "Biotalents : construit ton avenir en biologie". Cette UE comprend:
A13: **obligatoirement une demi-journée de rencontre avec des professionnels du secteur socio-économique de la biologie
A14: **obligatoirement une demi-journée de présentation des masters et Msc locaux
A15: **sur volontariat la possibilité de participer à des ateliers de préparation de CV, lettre de motivation, entrainement aux entretiens.
... A24: * Pour toutes autres MCC, se reporter aux régles générales de la L3SV parcours BMG (fiche générale).

Sheet S5 Maquette
A7: Composante | B7: ='Fiche Générale'!B3 -> Portail_SV | C7: Diplôme | E7: ='Fiche Générale'!B4 -> Sciences de la vie | G7: Code diplôme | H7: ='Fiche Générale'!B5 -> SLVBM3
C10: Parcours type | E10: ='Fiche Générale'!B9 -> Biologie Moléculaire et Génétique (BMG)
A13: Année | B13: 3 ème Année de Licence | C13: Code année | G13: Heures Maquette | H13: =Calcul!A7 -> #REF!
A15: Semestre | B15: Semestre 5 | C15: Code semestre | G15: Heures Valorisées | H15: =Calcul!A20 -> #REF!
A18: Niveau | B18: Libellé ELP | C18: Nature ELP | D18: ECTS | E18: Type | F18: Statut | G18: Code Apogée | H18: CNU | I18: Heure CM | J18: Heure TD | K18: Heure TP | L18: Langues | M18: Mutualisation | N18: Formation Porteuse | O18: Observations / Remarques ex: Intervention à titre gracieux / Capacité d'accueil max
A19: 0 | B19: UE Competences transversales (S5) | C19: UE | D19: 6 | O19: voir volant horaire selon établissement
A20: 0.1 | B20: Anglais 5 | C20: ECUE | G20: KLSANS50
A21: 0.2 | B21: Grands défis sociétaux : IA 3 | C21: ECUE | G21: KLESGD50
A22: 0.3 | B22: Compétences à s'orienter et à s'insérer | C22: ECUE | G22: KLESOS3
B23: 1 ECUE au choix
A24: 0.4 | B24: Compétences informationelles : Biblio. | C24: ECUE | G24: KCSINSV5
A25: 0.4 | B25: Bloc Certification | C25: ECUE
B26: 1 certification au choix (1/3)
A27: 0.4.1 | B27: Certification PIX (SV-SITE) | G27: KCSPIX5
A28: 0.4.2 | B28: Certification ECRI+ (Sciences) | G28: KCSECRI+5
A29: 0.4.3 | B29: Certification CLES anglais (Sciences) | G29: KLSCLES5
A30: 1 | B30: Biologie des Génomes | C30: UE | D30: 6 | G30: SLUBM500
A31: 1.1 | B31: Structure et expression des génomes | C31: ECUE | G31: SLEBM500 | H31: 64-Biochimie et biologie moléculaire | I31: 18 | J31: 18 | M31: Porteuse
A32: 1.2 | B32: Bio-informatique | C32: ECUE | G32: SLEBM501 | H32: 64-Biochimie et biologie moléculaire | I32: 12 | K32: 20 | M32: Porteuse | O32: TP en salle informatique - Taux encadrement : 1 EC pour 18 ET
A33: 1.3 | B33: Analyse Intégrative | C33: ECUE | G33: SLEBM502 | H33: 67-Biologie des populations et écologie | J33: 2 | M33: Porteuse
A34: 2 | B34: Aspects Moleculaires du Traitement de l'Information Cellulaire | C34: UE | D34: 6 | G34: SLUBM501
A35: 2.1 | B35: Les acteurs moléculaires de l'information cellulaire | C35: ECUE | G35: SLEBM503 | H35: 65-Biologie cellulaire | I35: 18 | J35: 12 | M35: Porteuse
A36: 2.2 | B36: Biochimie structurale et régulations enzymatiques | C36: ECUE | G36: SLEBM504 | H36: 64-Biochimie et biologie moléculaire | I36: 20 | J36: 14 | K36: 6 | M36: Porteuse | O36: TP en salle informatique - Taux encadrement : 1 EC pour 18 ET
A37: 3 | B37: Physiologie Animale integrée et approches pratiques en biologie moléculaire et cellulaire | C37: UE | D37: 6 | G37: SLUBM502
A38: 3.1 | B38: Physiologie Animale Intégrée | C38: ECUE | G38: SLEBM505 | H38: 66-Physiologie | I38: 28 | J38: 12 | M38: Porteuse
A39: 3.2 | B39: Approches pratiques en biologie moléculaire et cellulaire | C39: ECUE | G39: SLEBM506 | H39: 64-Biochimie et biologie moléculaire | K39: 35 | M39: Porteuse | O39: Taux encadrement : 1 EC pour 10 ET - SAE mise en place
A40: 4 | B40: Génétique Procaryote et Eucaryote | C40: UE | D40: 6 | G40: SLUMBM503
A41: 4.1 | B41: Régulation Génétique Procaryote | C41: ECUE | G41: SLEBM507 | H41: 65-Biologie cellulaire | I41: 18 | J41: 18 | K41: 12 | M41: Porteuse | O41: Taux encradrement : 1 EC pour 10 ET
A42: 4.2 | B42: Génétique eucaryotes | C42: ECUE | G42: SLEBM508 | H42: 67-Biologie des populations et écologie | I42: 10 | J42: 12 | K42: 0 | M42: Porteuse
B44: 1 UE à visée professionnalisantes (sur liste) | E44: Complémentaire | O44: en plus, 1 seule et non prise en compte dans calcul semestre
B45: UE stage | C45: UE | D45: 0 | E45: Facultatif | F45: Création | J45: 8 | O45: ECUE additionnelle facultative, stage à faire entre la L2-L3- permet l'ajout d'un bonus au semestre: si la note obtenue est comprise entre 10 et 12/20, le bonus est de 0.1; si la note obtenue est comprise entre 12 et 14/20, le bonus est de 0.2; au delà de 14/20, le bonus est de 0.25. Ce bonus peut s'ajouter à un bonus établissement mais ne peut pas permettre la validation du semestre. Ce bonus est conservé en session 2. | P45: en attente fin 2025-26

Sheet S5 MCC
A7: Composante | B7: ='Fiche Générale'!B3 -> Portail_SV | C7: Diplôme | E7: ='Fiche Générale'!B4 -> Sciences de la vie | G7: Code diplôme | H7: ='Fiche Générale'!B5 -> SLVBM3
C10: Parcours type | E10: ='Fiche Générale'!B9 -> Biologie Moléculaire et Génétique (BMG)
M12: 1ère session | R12: Seconde Chance
A13: Année | B13: ='S5 Maquette'!B13:B14 -> 3 ème Année de Licence | D13: Code Année | E13: ='S5 Maquette'!E13:F14 -> 0
M14: Contrôle continu | N14: Contrôle Terminal | P14: Contrôle Final
A15: Semestre | B15: ='S5 Maquette'!B15:B16 -> Semestre 5 | D15: Code Semestre | E15: ='S5 Maquette'!E15:F16 -> 0
A18: Libellé | B18: Nature | C18: Statut | D18: Coefficient | E18: Notes attendues | F18: Résultat attendu: (ACQ/AJ) | G18: Conservation note | H18: Capitalisable | I18: Compensable | J18: Seuil de compensation /20 | K18: Type de contrôle | L18: Si CC&CT coef du CT | M18: Nbre d'évalution minimum | N18: Nature | O18: Durée | P18: Nature | Q18: Durée | R18: Format d'évaluation | S18: Nature | T18: Durée | U18: Modalités de mise en œuvre | V18: Commentaires
A19: ='S5 Maquette'!B19 -> UE Competences transversales (S5) | B19: UE | C19: 0 | H19: OUI | I19: OUI | V19: Evaluation selon etablissement
A20: ='S5 Maquette'!B20 -> Anglais 5 | B20: ECUE | C20: 0 | D20: 2 | E20: OUI | H20: OUI | I20: OUI | K20: CT (Contrôle terminal) | N20: Écrit | O20: 1h30 | S20: Écrit | T20: 1h30 | V20: épreuve au CNE
A21: ='S5 Maquette'!B21 -> Grands défis sociétaux : IA 3 | B21: ECUE | C21: 0 | D21: 1 | E21: OUI | H21: OUI | I21: OUI | K21: CC&CT | M21: 2 | N21: Écrit | O21: 20 min | S21: Écrit | T21: 20 min | V21: épreuve au CNE
A22: ='S5 Maquette'!B22 -> Compétences à s'orienter et à s'insérer | B22: ECUE | D22: 1 | E22: OUI | H22: OUI | I22: OUI | K22: CC&CT | M22: 2 | N22: Écrit | O22: 20 min | S22: Écrit | T22: 20 min | V22: épreuve au CNE
A23: ='S5 Maquette'!B23 -> 1 ECUE au choix | H23: OUI | I23: OUI | V23: épreuve au CNE
A24: ='S5 Maquette'!B24 -> Compétences informationelles : Biblio. | B24: ECUE | D24: 1 | E24: NON | F24: OUI | H24: NON | I24: NON | K24: CC&CT | N24: Écrit | O24: 20 min | S24: Écrit | T24: 20 min | V24: épreuve au CNE
A25: ='S5 Maquette'!B25 -> Bloc Certification | B25: ECUE | D25: 1 | E25: NON | F25: OUI | H25: OUI | I25: OUI | K25: CT (Contrôle terminal) | V25: évaluation selon choix certification
A26: ='S5 Maquette'!B26 -> 1 certification au choix (1/3)
A27: ='S5 Maquette'!B27 -> Certification PIX (SV-SITE) | D27: 1 | E27: NON | F27: OUI | H27: NON | I27: NON | K27: CT (Contrôle terminal) | N27: Écrit | O27: 2h | S27: Écrit | T27: 2h | V27: épreuve au CNE
A28: ='S5 Maquette'!B28 -> Certification ECRI+ (Sciences) | D28: 1 | E28: NON | F28: OUI | H28: NON | I28: NON | K28: CT (Contrôle terminal) | N28: Écrit | O28: 2h | S28: Écrit | T28: 2h | V28: épreuve au CNE
A29: ='S5 Maquette'!B29 -> Certification CLES anglais (Sciences) | D29: 1 | E29: NON | F29: OUI | H29: NON | I29: NON | K29: CT (Contrôle terminal) | N29: Ecrit et oral | O29: 3h | S29: Ecrit et oral | T29: 3h | V29: épreuve au CNE
A30: ='S5 Maquette'!B30 -> Biologie des Génomes | B30: ='S5 Maquette'!C30 -> UE | E30: OUI | F30: OUI | G30: OUI | H30: OUI | I30: OUI | J30: 6 | K30: CCI (CC Intégral) | M30: 3
A31: ='S5 Maquette'!B31 -> Structure et expression des génomes | B31: ='S5 Maquette'!C31 -> ECUE | D31: 0.55 | E31: OUI | F31: OUI | G31: OUI | H31: OUI | I31: OUI | P31: Écrit | Q31: 2h30 | R31: CT (Contrôle terminal) | S31: Écrit | T31: 2h30
A32: ='S5 Maquette'!B32 -> Bio-informatique | B32: ='S5 Maquette'!C32 -> ECUE | C32: ='S5 Maquette'!F32 -> 0 | D32: 0.35 | E32: OUI | F32: OUI | G32: OUI | H32: OUI | I32: OUI | P32: Écrit | Q32: 2h | R32: CT (Contrôle terminal) | S32: Écrit | T32: 2h
A33: ='S5 Maquette'!B33 -> Analyse Intégrative | B33: ='S5 Maquette'!C33 -> ECUE | C33: ='S5 Maquette'!F33 -> 0 | D33: 0.1 | E33: OUI | F33: OUI | G33: OUI | H33: OUI | I33: OUI | P33: Rapport/Mémoire | Q33: pas de CT | T33: pas de session 2 | U33: session unique - pas de session 2 | V33: session unique - pas de session 2
A34: ='S5 Maquette'!B34 -> Aspects Moleculaires du Traitement de l'Information Cellulaire | B34: ='S5 Maquette'!C34 -> UE | C34: ='S5 Maquette'!F34 -> 0 | E34: OUI | F34: OUI | G34: OUI | H34: OUI | I34: OUI | J34: 6 | K34: CCI (CC Intégral) | M34: 3
A35: ='S5 Maquette'!B35 -> Les acteurs moléculaires de l'information cellulaire | B35: ='S5 Maquette'!C35 -> ECUE | C35: ='S5 Maquette'!F35 -> 0 | E35: OUI | F35: OUI | G35: OUI | H35: OUI | I35: OUI | P35: Écrit | Q35: 2h | R35: CT (Contrôle terminal) | S35: Écrit | T35: 2h | V35: session 2 : soit un ecrit sur table soit sur ordinateur au centre numérique valrose possible
A36: ='S5 Maquette'!B36 -> Biochimie structurale et régulations enzymatiques | B36: ='S5 Maquette'!C36 -> ECUE | C36: ='S5 Maquette'!F36 -> 0 | E36: OUI | F36: OUI | G36: OUI | H36: OUI | I36: OUI | P36: Écrit | Q36: 2h | R36: CT (Contrôle terminal) | S36: Écrit | T36: 2h
A37: ='S5 Maquette'!B37 -> Physiologie Animale integrée et approches pratiques en biologie moléculaire et cellulaire | B37: ='S5 Maquette'!C37 -> UE | C37: ='S5 Maquette'!F37 -> 0 | E37: OUI | F37: OUI | G37: OUI | H37: OUI | I37: OUI | J37: 6 | K37: CCI (CC Intégral) | M37: 3
A38: ='S5 Maquette'!B38 -> Physiologie Animale Intégrée | B38: ='S5 Maquette'!C38 -> ECUE | C38: ='S5 Maquette'!F38 -> 0 | D38: 0.6 | E38: OUI | F38: OUI | G38: OUI | H38: OUI | I38: OUI | P38: Écrit | Q38: 2h | R38: CT (Contrôle terminal) | S38: Écrit | T38: 2h
A39: ='S5 Maquette'!B39 -> Approches pratiques en biologie moléculaire et cellulaire | B39: ='S5 Maquette'!C39 -> ECUE | C39: ='S5 Maquette'!F39 -> 0 | D39: 0.4 | E39: OUI | F39: OUI | G39: OUI | H39: OUI | I39: OUI | P39: Ecrit | Q39: Pas de CF (SAE) | T39: pas de session 2
A40: ='S5 Maquette'!B40 -> Génétique Procaryote et Eucaryote | B40: ='S5 Maquette'!C40 -> UE | C40: ='S5 Maquette'!F40 -> 0 | E40: OUI | F40: OUI | G40: OUI | H40: OUI | I40: OUI | J40: 6 | K40: CCI (CC Intégral) | M40: 3
A41: ='S5 Maquette'!B41 -> Régulation Génétique Procaryote | B41: ='S5 Maquette'!C41 -> ECUE | C41: ='S5 Maquette'!F41 -> 0 | D41: 0.7 | E41: OUI | F41: OUI | G41: OUI | H41: OUI | I41: OUI | P41: Écrit | Q41: 2h | R41: CT (Contrôle terminal) | S41: Écrit | T41: 2h | V41: session 2 : soit Ecrit (2h) soit oral (20min) selon effectif
A42: ='S5 Maquette'!B42 -> Génétique eucaryotes | B42: ='S5 Maquette'!C42 -> ECUE | C42: ='S5 Maquette'!F42 -> 0 | D42: 0.3 | E42: OUI | F42: OUI | G42: OUI | H42: OUI | I42: OUI | P42: Écrit | Q42: 2h | R42: CT (Contrôle terminal) | S42: Écrit | T42: 2h
A43: ='S5 Maquette'!B43 -> 0 | B43: ='S5 Maquette'!C43 -> 0 | C43: ='S5 Maquette'!F43 -> 0
A44: ='S5 Maquette'!B44 -> 1 UE à visée professionnalisantes (sur liste) | B44: ='S5 Maquette'!C44 -> 0 | C44: ='S5 Maquette'!F44 -> 0 | V44: non prise en compte dans calcul semestre 5
A45: ='S5 Maquette'!B45 -> UE stage | B45: ='S5 Maquette'!C45 -> UE | C45: ='S5 Maquette'!F45 -> Création | K45: CCI (CC Intégral) | M45: 1 | N45: Rapport/Mémoire | T45: pas de session 2 | V45: valorisation par point bonus (voir MCC)
A46: ='S5 Maquette'!B46 -> 0 | B46: ='S5 Maquette'!C46 -> 0 | C46: ='S5 Maquette'!F46 -> 0
A47: ='S5 Maquette'!B47 -> 0 | B47: ='S5 Maquette'!C47 -> 0 | C47: ='S5 Maquette'!F47 -> 0
A48: ='S5 Maquette'!B48 -> 0 | B48: ='S5 Maquette'!C48 -> 0 | C48: ='S5 Maquette'!F48 -> 0
A49: ='S5 Maquette'!B49 -> 0 | B49: ='S5 Maquette'!C49 -> 0 | C49: ='S5 Maquette'!F49 -> 0
A50: ='S5 Maquette'!B50 -> 0 | B50: ='S5 Maquette'!C50 -> 0 | C50: ='S5 Maquette'!F50 -> 0
A51: ='S5 Maquette'!B51 -> 0 | B51: ='S5 Maquette'!C51 -> 0 | C51: ='S5 Maquette'!F51 -> 0
...

Sheet S6 Maquette
A7: Composante | B7: ='Fiche Générale'!B3 -> Portail_SV | C7: Diplôme | E7: ='Fiche Générale'!B4 -> Sciences de la vie | G7: Code diplôme | H7: ='Fiche Générale'!B5 -> SLVBM3
C10: Parcours type | E10: ='Fiche Générale'!B9 -> Biologie Moléculaire et Génétique (BMG)
A13: Année | B13: ='S5 Maquette'!B13:B14 -> 3 ème Année de Licence | C13: Code année | E13: ='S5 Maquette'!E13:F14 -> 0 | G13: Heures Maquette | H13: =Calcul!D7 -> #REF!
A15: Semestre | B15: Semestre 6 | C15: Code semestre | G15: Heures Valorisées | H15: =Calcul!D20 -> #REF!
A18: Niveau | B18: Libellé ELP | C18: Nature ELP | D18: ECTS | E18: Type | F18: Statut | G18: Code Apogée | H18: CNU | I18: Heure CM | J18: Heure TD | K18: Heure TP | L18: Langues | M18: Mutualisation | N18: Formation Porteuse | O18: Observations / Remarques ex: Intervention à titre gracieux / Capacité d'accueil max
A19: 0 | B19: UE Competences transversales 1 (S6) | C19: UE | D19: 3 | O19: voir volant horaire selon établissement
A20: 0.1 | B20: Anglais 6 | C20: ECUE | G20: KLSANSV6
A21: 0.2 | B21: Grands défis sociétaux : TEDS 3 | C21: ECUE | G21: KLESGD6
A22: 0 | B22: UE Competences transversales 2 (S6) | C22: UE | D22: 3
B23: 1 UE AU CHOIX (/ 2 proposées) | F23: Création
B24: Projet Bioéthique, Environnement et Droit | F24: Création | G24: KLSSAE6 | I24: 6 | K24: 14 | M24: Porteuse | O24: SAE / taux encadrement 1 EC pour 12 ET - Numero clausus 44
B25: panier Outils/Ouverture extra disciplinaires (OED) (choix 1 ECUE sur liste proposée) | F25: Création | M25: Portée | O25: volant horaire selon établissement
A26: 1 | B26: Statistiques et Evolution moléculaire | C26: UE | D26: 6 | G26: SLUBM600
A27: 1.1 | B27: Statistiques II | C27: ECUE | G27: SLEBM600 | H27: 26-Mathématiques appliquées et applications des mathématiques | I27: 16 | J27: 4 | K27: 12 | M27: Porteuse | O27: TP en salle informatique - Taux encadrement TP : 1 EC pour 18 ET
A28: 1.2 | B28: Evolution moléculaire et phylogénie | C28: ECUE | G28: SLEBM601 | H28: 67-Biologie des populations et écologie | I28: 20 | J28: 8 | K28: 8 | M28: Porteuse | O28: TP en salle informatique - Taux encadrement TP : 1 EC pour 18 ET
A29: 2 | B29: Immunologie et Biotechnologies | C29: UE | D29: 6 | G29: SLUBM601
A30: 2.1 | B30: Immunologie 1 | C30: ECUE | G30: SLEBM602 | H30: 66-Physiologie | I30: 14 | J30: 16 | K30: 0 | M30: Porteuse
A31: 2.2 | B31: Biotechnologies | C31: ECUE | G31: SLEBM603 | H31: 66-Physiologie | I31: 18 | J31: 8 | K31: 15 | M31: Porteuse | O31: Taux encadrement TP : 1 EC pour 8 ET sinon pour TP en salle info : 1EC pour 18 ET
A32: 3 | B32: 1 UE AU CHOIX | C32: ECUE
B33: UE Min 1 ; Max 1 | C33: OPTION
A34: 3.1 | B34: Endocrinologie générale et Exploration fonctionnelle en Physiologie Animale | C34: UE | D34: 6 | G34: SLUBM602
A35: 3.1.1 | B35: Endocrinologie Générale | C35: ECUE | G35: SLEBM604 | H35: 66-Physiologie | I35: 20 | J35: 10 | M35: Porteuse
A36: 3.1.2 | B36: Techniques d'exploration fonctionnelle en Physiologie Animale | C36: ECUE | G36: SLEBM605 | H36: 66-Physiologie | I36: 2 | J36: 6 | K36: 30 | M36: Porteuse | O36: Taux encadrement TP : 1 EC pour 8 ET
A37: 3.2 | B37: Biologie Végétale Intégrative | C37: UE | D37: 6 | G37: SLUBM603
A38: 3.2.1 | B38: Biologie du développement végétal | C38: ECUE | G38: SLEBM606 | H38: 66-Physiologie | I38: 16 | J38: 6 | K38: 15 | M38: Porteuse | O38: Taux encadrement TP : 1 EC pour 8 ET - Mise en place d'une SAE sur les TP
A39: 3.2.2 | B39: Histoire évolutive des angiospermes | C39: ECUE | G39: SLEBM607 | H39: 67-Biologie des populations et écologie | I39: 24 | K39: 18 | M39: Porteuse | O39: (18h TP incluant 3h Sortie Terrain) - Taux encadrement TP et terrain : 1 EC pour 12 ET
A40: 4 | B40: 1 UE AU CHOIX | C40: UE
B41: UE Min 1 ; Max 1 | C41: OPTION
A42: 4.1 | B42: Biologie du développement animal et pratique | C42: UE | D42: 6 | G42: SLUBM604 | M42: Porteuse
A43: 4.1.1 | B43: Biologie du développement animal | C43: ECUE | G43: SLEBM608 | H43: 64-Biochimie et biologie moléculaire | I43: 32 | K43: 15 | M43: Porteuse | O43: Taux encadrement TP : 1 EC pour 10 ET
A44: 4.1.2 | B44: 1 ECUE AU CHOIX
B45: ECUE Min 1 ; Max 1
A46: 4.1.2.1 | B46: Immunologie 2 | C46: ECUE | G46: SLEBM609 | H46: 66-Physiologie | I46: 0 | J46: 16 | K46: 0 | M46: Porteuse | O46: Numéro clausus : 60
A47: 4.1.2.2 | B47: Imagerie Tissulaire | C47: ECUE | G47: SLEBM610 | H47: 65-Biologie cellulaire | J47: 18 | K47: 12 | M47: Porteuse | O47: Numéro clausus : 20 - Taux encadrement TP : 1 EC pour 10 ET
A48: 4.1.2.3 | B48: Physiopathologie de la nutriton et du métabolisme | C48: ECUE | G48: SLEBM611 | H48: 66-Physiologie | I48: 26 | J48: 16 | K48: 4 | M48: Porteuse | O48: TP en salle informatique - Taux encadrement TP : 1 EC pour 18 ET
A49: 4.2 | B49: Biologie des Adaptations | C49: UE | D49: 6 | G49: SLUBM605
A50: 4.2.1 | B50: Biologie des adaptations et interactions durables | C50: ECUE | G50: SLEBM612 | H50: 68-Biologie des organismes | I50: 30 | J50: 18 | M50: Porteuse
A51: 4.2.2 | B51: 1 ECUE AU CHOIX
B52: ECUE Min 1 ; Max 1 | C52: OPTION
A53: 4.2.2.1 | B53: Projet communication scientifique | C53: ECUE | G53: SLEVM613 | H53: 68-Biologie des organismes | I53: 6 | K53: 20 | M53: Porteuse | O53: Taux encadrement TP/projet : 1 EC pour 20 ET
...

Sheet S6 MCC
A7: Composante | B7: ='Fiche Générale'!B3 -> Portail_SV | C7: Diplôme | E7: ='Fiche Générale'!B4 -> Sciences de la vie | G7: Code diplôme | H7: ='Fiche Générale'!B5 -> SLVBM3
C10: Parcours type | E10: ='Fiche Générale'!B9 -> Biologie Moléculaire et Génétique (BMG)
M12: 1ère session | R12: Seconde Chance
A13: Année | B13: ='S6 Maquette'!B13:B14 -> 3 ème Année de Licence | D13: Code Année | E13: ='S6 Maquette'!E13:F14 -> 0
M14: Contrôle continu | N14: Contrôle Terminal | P14: Contrôle Final
A15: Semestre | B15: ='S6 Maquette'!B15:B16 -> Semestre 6 | D15: Code Semestre | E15: ='S6 Maquette'!E15:F16 -> 0
A18: Libellé | B18: Nature | C18: Statut | D18: Coefficient | E18: Notes attendues | F18: Résultat attendu: (ACQ/AJ) | G18: Conservation note | H18: Capitalisable | I18: Compensable | J18: Seuil de compensation /20 | K18: Type de contrôle | L18: Si CC&CT coef du CT | M18: Nbre d'évalution minimum | N18: Nature | O18: Durée | P18: Nature | Q18: Durée | R18: Format d'évaluation | S18: Nature | T18: Durée | U18: Modalités de mise en œuvre | V18: Commentaires
A19: ='S6 Maquette'!B19 -> UE Competences transversales 1 (S6) | B19: UE | C19: 0 | V19: Voir évaluation selon etablissement pour vérification
A20: ='S6 Maquette'!B20 -> Anglais 6 | B20: ECUE | C20: 0 | D20: 2 | E20: OUI | H20: OUI | K20: CC&CT | L20: 0.5 | M20: 2 | N20: Écrit | O20: 1h30 | S20: Écrit | T20: 1h30
A21: ='S6 Maquette'!B21 -> Grands défis sociétaux : TEDS 3 | B21: ECUE | C21: 0 | D21: 1 | E21: OUI | H21: OUI | I21: OUI | K21: CCI (CC Intégral) | M21: 2
A22: ='S6 Maquette'!B22 -> UE Competences transversales 2 (S6) | B22: UE | C22: Création
A23: ='S6 Maquette'!B23 -> 1 UE AU CHOIX (/ 2 proposées) | C23: 0 | K23: CCI (CC Intégral) | M23: 1
A24: ='S6 Maquette'!B24 -> Projet Bioéthique, Environnement et Droit | B24: UE | D24: 1 | E24: OUI | F24: OUI | G24: OUI | H24: OUI | I24: OUI | K24: CCI (CC Intégral) | M24: 2 | N24: Oral | O24: 20min | S24: pas de session 2 | U24: session unique, pas de session 2 | V24: voir consigne SAE
A25: ='S6 Maquette'!B25 -> panier Outils/Ouverture extra disciplinaires (OED) (choix 1 ECUE sur liste proposée) | B25: UE | D25: 1 | V25: Voir évaluation selon établissement
A26: ='S6 Maquette'!B26 -> Statistiques et Evolution moléculaire | B26: ='S6 Maquette'!C26 -> UE | D26: 1 | E26: OUI | F26: OUI | G26: OUI | H26: OUI | I26: OUI | J26: 6 | K26: CCI (CC Intégral) | M26: 3
A27: ='S6 Maquette'!B27 -> Statistiques II | B27: ='S6 Maquette'!C27 -> ECUE | E27: OUI | F27: OUI | G27: OUI | H27: OUI | I27: OUI | P27: Écrit | Q27: 2h | R27: CT (Contrôle terminal) | S27: Écrit | T27: 2h
A28: ='S6 Maquette'!B28 -> Evolution moléculaire et phylogénie | B28: ='S6 Maquette'!C28 -> ECUE | C28: ='S6 Maquette'!F28 -> 0 | E28: OUI | F28: OUI | G28: OUI | H28: OUI | I28: OUI | P28: Écrit | Q28: 2h | R28: CT (Contrôle terminal) | S28: Écrit | T28: 2h
A29: ='S6 Maquette'!B29 -> Immunologie et Biotechnologies | B29: ='S6 Maquette'!C29 -> UE | D29: 1 | E29: OUI | F29: OUI | G29: OUI | H29: OUI | I29: OUI | J29: 6 | K29: CCI (CC Intégral) | M29: 3
A30: ='S6 Maquette'!B30 -> Immunologie 1 | B30: ='S6 Maquette'!C30 -> ECUE | C30: ='S6 Maquette'!F30 -> 0 | E30: OUI | F30: OUI | G30: OUI | H30: OUI | I30: OUI | P30: Écrit | Q30: 2h | R30: CT (Contrôle terminal) | S30: Écrit | T30: 2h
A31: ='S6 Maquette'!B31 -> Biotechnologies | B31: ='S6 Maquette'!C31 -> ECUE | C31: ='S6 Maquette'!F31 -> 0 | E31: OUI | F31: OUI | G31: OUI | H31: OUI | I31: OUI | P31: Écrit | Q31: 2h | R31: CT (Contrôle terminal) | S31: Écrit | T31: 1h
A32: 1 UE AU CHOIX
A33: ='S6 Maquette'!B33 -> UE Min 1 ; Max 1 | B33: ='S6 Maquette'!C33 -> OPTION | C33: ='S6 Maquette'!F33 -> 0 | D33: ='S6 Maquette'!G33 -> 0 | E33: ='S6 Maquette'!H33 -> 0 | F33: ='S6 Maquette'!I33 -> 0 | G33: ='S6 Maquette'!J33 -> 0 | H33: ='S6 Maquette'!K33 -> 0 | I33: ='S6 Maquette'!L33 -> 0 | J33: ='S6 Maquette'!M33 -> 0
A34: ='S6 Maquette'!B34 -> Endocrinologie générale et Exploration fonctionnelle en Physiologie Animale | B34: ='S6 Maquette'!C34 -> UE | C34: ='S6 Maquette'!F34 -> 0 | D34: 1 | E34: OUI | F34: OUI | G34: OUI | H34: OUI | I34: OUI | J34: 6 | K34: CCI (CC Intégral) | M34: 3
A35: ='S6 Maquette'!B35 -> Endocrinologie Générale | B35: ='S6 Maquette'!C35 -> ECUE | C35: ='S6 Maquette'!F35 -> 0 | D35: 0.6 | E35: OUI | F35: OUI | G35: OUI | H35: OUI | I35: OUI | P35: Écrit | Q35: 2h | R35: CT (Contrôle terminal) | S35: Écrit | T35: 2h
A36: ='S6 Maquette'!B36 -> Techniques d'exploration fonctionnelle en Physiologie Animale | B36: ='S6 Maquette'!C36 -> ECUE | C36: ='S6 Maquette'!F36 -> 0 | D36: 0.4 | E36: OUI | F36: OUI | G36: OUI | H36: OUI | I36: OUI | P36: Écrit | Q36: 1h30 | R36: CT (Contrôle terminal) | S36: Écrit | T36: 1h30
A37: ='S6 Maquette'!B37 -> Biologie Végétale Intégrative | B37: ='S6 Maquette'!C37 -> UE | C37: ='S6 Maquette'!F37 -> 0 | E37: OUI | F37: OUI | G37: OUI | H37: OUI | I37: OUI | J37: 6 | K37: CCI (CC Intégral) | M37: 3
A38: ='S6 Maquette'!B38 -> Biologie du développement végétal | B38: ='S6 Maquette'!C38 -> ECUE | C38: ='S6 Maquette'!F38 -> 0 | E38: OUI | F38: OUI | G38: OUI | H38: OUI | I38: OUI | P38: Écrit | Q38: 2h30 | R38: CT (Contrôle terminal) | S38: Écrit | T38: 2h
A39: ='S6 Maquette'!B39 -> Histoire évolutive des angiospermes | B39: ='S6 Maquette'!C39 -> ECUE | C39: ='S6 Maquette'!F39 -> 0 | E39: OUI | F39: OUI | G39: OUI | H39: OUI | I39: OUI | P39: Écrit | Q39: 2h30 | R39: CT (Contrôle terminal) | S39: Écrit | T39: 2h
A40: 1 UE AU CHOIX
A41: ='S6 Maquette'!B41 -> UE Min 1 ; Max 1 | B41: ='S6 Maquette'!C41 -> OPTION | C41: ='S6 Maquette'!F41 -> 0
A42: ='S6 Maquette'!B42 -> Biologie du développement animal et pratique | B42: ='S6 Maquette'!C42 -> UE | C42: ='S6 Maquette'!F42 -> 0 | E42: OUI | F42: OUI | G42: OUI | H42: OUI | I42: OUI | J42: 6 | K42: CCI (CC Intégral) | M42: 3
A43: ='S6 Maquette'!B43 -> Biologie du développement animal | B43: ='S6 Maquette'!C43 -> ECUE | C43: ='S6 Maquette'!F43 -> 0 | D43: 0.7 | E43: OUI | F43: OUI | G43: OUI | H43: OUI | I43: OUI | P43: Écrit | Q43: 2h | R43: CT (Contrôle terminal) | S43: Écrit | T43: 2h
A44: 1 ECUE AU CHOIX
A45: ='S6 Maquette'!B45 -> ECUE Min 1 ; Max 1 | B45: ='S6 Maquette'!C45 -> 0 | C45: ='S6 Maquette'!F45 -> 0
A46: ='S6 Maquette'!B46 -> Immunologie 2 | B46: ='S6 Maquette'!C46 -> ECUE | C46: ='S6 Maquette'!F46 -> 0 | D46: 0.3 | E46: OUI | F46: OUI | G46: OUI | H46: OUI | I46: OUI | P46: Écrit | Q46: 2h | R46: CT (Contrôle terminal) | S46: Écrit | T46: 2h
A47: ='S6 Maquette'!B47 -> Imagerie Tissulaire | B47: ='S6 Maquette'!C47 -> ECUE | C47: ='S6 Maquette'!F47 -> 0 | D47: 0.3 | E47: OUI | F47: OUI | G47: OUI | H47: OUI | I47: OUI | P47: Écrit | Q47: 1h | T47: pas de session 2 | U47: session unique, pas de session 2 | V47: session unique, pas de session 2
A48: ='S6 Maquette'!B48 -> Physiopathologie de la nutriton et du métabolisme | B48: ='S6 Maquette'!C48 -> ECUE | C48: ='S6 Maquette'!F48 -> 0 | D48: 0.3 | E48: OUI | F48: OUI | G48: OUI | H48: OUI | I48: OUI | P48: Écrit | Q48: 2h | R48: CT (Contrôle terminal) | S48: Écrit | T48: 1h
A49: ='S6 Maquette'!B49 -> Biologie des Adaptations | B49: ='S6 Maquette'!C49 -> UE | C49: ='S6 Maquette'!F49 -> 0 | E49: OUI | F49: OUI | G49: OUI | H49: OUI | I49: OUI | J49: 6 | K49: CCI (CC Intégral) | M49: 3
A50: ='S6 Maquette'!B50 -> Biologie des adaptations et interactions durables | B50: ='S6 Maquette'!C50 -> ECUE | C50: ='S6 Maquette'!F50 -> 0 | D50: 0.7 | E50: OUI | F50: OUI | G50: OUI | H50: OUI | I50: OUI | P50: Écrit | Q50: 2h | R50: CT (Contrôle terminal) | S50: Écrit | T50: 2h
A51: 1 ECUE AU CHOIX | B51: ECUE
...
